BEGIN:VCALENDAR
VERSION:2.0
PRODID:-//Pasadena Community Orchestra - ECPv6.15.20//NONSGML v1.0//EN
CALSCALE:GREGORIAN
METHOD:PUBLISH
X-ORIGINAL-URL:https://www.pcomusic.org
X-WR-CALDESC:Events for Pasadena Community Orchestra
REFRESH-INTERVAL;VALUE=DURATION:PT1H
X-Robots-Tag:noindex
X-PUBLISHED-TTL:PT1H
BEGIN:VTIMEZONE
TZID:America/Los_Angeles
BEGIN:DAYLIGHT
TZOFFSETFROM:-0800
TZOFFSETTO:-0700
TZNAME:PDT
DTSTART:20110313T100000
END:DAYLIGHT
BEGIN:STANDARD
TZOFFSETFROM:-0700
TZOFFSETTO:-0800
TZNAME:PST
DTSTART:20111106T090000
END:STANDARD
BEGIN:DAYLIGHT
TZOFFSETFROM:-0800
TZOFFSETTO:-0700
TZNAME:PDT
DTSTART:20120311T100000
END:DAYLIGHT
BEGIN:STANDARD
TZOFFSETFROM:-0700
TZOFFSETTO:-0800
TZNAME:PST
DTSTART:20121104T090000
END:STANDARD
BEGIN:DAYLIGHT
TZOFFSETFROM:-0800
TZOFFSETTO:-0700
TZNAME:PDT
DTSTART:20130310T100000
END:DAYLIGHT
BEGIN:STANDARD
TZOFFSETFROM:-0700
TZOFFSETTO:-0800
TZNAME:PST
DTSTART:20131103T090000
END:STANDARD
BEGIN:DAYLIGHT
TZOFFSETFROM:-0800
TZOFFSETTO:-0700
TZNAME:PDT
DTSTART:20140309T100000
END:DAYLIGHT
BEGIN:STANDARD
TZOFFSETFROM:-0700
TZOFFSETTO:-0800
TZNAME:PST
DTSTART:20141102T090000
END:STANDARD
END:VTIMEZONE
BEGIN:VEVENT
DTSTART;TZID=America/Los_Angeles:20131115T200000
DTEND;TZID=America/Los_Angeles:20131115T220000
DTSTAMP:20260423T135801
CREATED:20130723T121318Z
LAST-MODIFIED:20230807T032829Z
UID:973-1384545600-1384552800@www.pcomusic.org
SUMMARY:Rossini + Copland + Hanson
DESCRIPTION:Overture to the Barber of Seville\, Gioacchino Rossini \nRodeo: Four Dance Episodes\, Aaron Copland \nSymphony No. 2 (Romantic)\,Howard Hanson \nDownload concert flyer here
URL:https://www.pcomusic.org/event/111513/
LOCATION:First Church of the Nazarene of Pasadena\, 3700 E Sierra Madre Boulevard\, Pasadena\, CA\, 91107\, United States
CATEGORIES:Concert
ATTACH;FMTTYPE=image/jpeg:https://www.pcomusic.org/wp-content/uploads/2013/07/Nov.Web_.banner_598x4501.jpg
ORGANIZER;CN="Pasadena Community Orchestra":MAILTO:publicity@pcomusic.org
END:VEVENT
BEGIN:VEVENT
DTSTART;TZID=America/Los_Angeles:20130615T183000
DTEND;TZID=America/Los_Angeles:20130615T203000
DTSTAMP:20260423T135801
CREATED:20121123T103504Z
LAST-MODIFIED:20220329T044651Z
UID:747-1371321000-1371328200@www.pcomusic.org
SUMMARY:Concert in the Park
DESCRIPTION:Concert in the Park\, Program TBD
URL:https://www.pcomusic.org/event/sunday-prayers-with-preview-pic-instead-of-map/
LOCATION:Sierra Madre Memorial Park\, 222 West Sierra Madre Blvd.\, Sierra Madre\, CA\, 91024\, United States
CATEGORIES:Concert
ATTACH;FMTTYPE=image/jpeg:https://www.pcomusic.org/wp-content/uploads/2012/10/memorialpark.jpg
END:VEVENT
BEGIN:VEVENT
DTSTART;TZID=America/Los_Angeles:20130517T200000
DTEND;TZID=America/Los_Angeles:20130517T220000
DTSTAMP:20260423T135801
CREATED:20121023T093617Z
LAST-MODIFIED:20230807T032707Z
UID:748-1368820800-1368828000@www.pcomusic.org
SUMMARY:Concert
DESCRIPTION:Piano Concert No. 1 in e minor                      Chopin             Tianpeng Yu – piano\nSuite from the ballet “The Firebird”                 Stravinsky\nDie Entführung aus dem Serail Overture        Mozart
URL:https://www.pcomusic.org/event/all-day-prayer/
LOCATION:First Church of the Nazarene of Pasadena\, 3700 E Sierra Madre Boulevard\, Pasadena\, CA\, 91107\, United States
CATEGORIES:Concert
ATTACH;FMTTYPE=image/jpeg:https://www.pcomusic.org/wp-content/uploads/2012/10/Igorstravinsky.jpg
ORGANIZER;CN="Pasadena Community Orchestra":MAILTO:publicity@pcomusic.org
END:VEVENT
BEGIN:VEVENT
DTSTART;TZID=America/Los_Angeles:20130315T200000
DTEND;TZID=America/Los_Angeles:20130315T220000
DTSTAMP:20260423T135801
CREATED:20121123T104028Z
LAST-MODIFIED:20220802T023933Z
UID:750-1363377600-1363384800@www.pcomusic.org
SUMMARY:Concert
DESCRIPTION:Overture to “Nabucco”\, Verdi \nConcerto No. 4 for Piano and Orchestra\, Beethoven \nSymphony No. 7\, Prokofiev \nFeaturing Junko Ueno Garrett\, Piano Soloist
URL:https://www.pcomusic.org/event/pilgrimage/
LOCATION:First Church of the Nazarene of Pasadena\, 3700 E Sierra Madre Boulevard\, Pasadena\, CA\, 91107\, United States
CATEGORIES:Concert
ATTACH;FMTTYPE=image/jpeg:https://www.pcomusic.org/wp-content/uploads/2012/11/IMG-Junko-Ueno-Garrett.jpg
ORGANIZER;CN="Bette Solomon%2C Board President":MAILTO:pcoemails@gmail.com
END:VEVENT
BEGIN:VEVENT
DTSTART;TZID=America/Los_Angeles:20130125T200000
DTEND;TZID=America/Los_Angeles:20130125T220000
DTSTAMP:20260423T135801
CREATED:20121023T074836Z
LAST-MODIFIED:20230807T032055Z
UID:732-1359144000-1359151200@www.pcomusic.org
SUMMARY:Concert
DESCRIPTION:Hymn and Fuguing Tune No. 3\, Cowell \nConcerto for Cello and Orchestra\, Schumann \nSymphony No. 8 in G Major\, Dvorak \nFeaturing Christopher Ahn\, Cello Soloist \nProgram Notes
URL:https://www.pcomusic.org/event/sunday-prayers-2/
LOCATION:First Church of the Nazarene of Pasadena\, 3700 E Sierra Madre Boulevard\, Pasadena\, CA\, 91107\, United States
CATEGORIES:Concert
ATTACH;FMTTYPE=image/png:https://www.pcomusic.org/wp-content/uploads/2021/04/logo-lineart-black.png
ORGANIZER;CN="Pasadena Community Orchestra":MAILTO:publicity@pcomusic.org
END:VEVENT
BEGIN:VEVENT
DTSTART;TZID=America/Los_Angeles:20121109T200000
DTEND;TZID=America/Los_Angeles:20121109T220000
DTSTAMP:20260423T135801
CREATED:20121110T004523Z
LAST-MODIFIED:20230807T032616Z
UID:690-1352491200-1352498400@www.pcomusic.org
SUMMARY:Concert
DESCRIPTION:Prelude and LIebestod from Tristan and Isolde\, Wagner \nConcerto for Violin and Orchestra\, Delius \nSelections from the Ballet “Swan Lake”\, Tchaikovsky \nFeaturing Paul Stein\, Violin Soloist \nDownload Concert Flyer here.
URL:https://www.pcomusic.org/event/sunday-prayers/
LOCATION:First Church of the Nazarene of Pasadena\, 3700 E Sierra Madre Boulevard\, Pasadena\, CA\, 91107\, United States
CATEGORIES:Concert
ATTACH;FMTTYPE=image/png:https://www.pcomusic.org/wp-content/uploads/2021/04/logo-lineart-black.png
ORGANIZER;CN="Pasadena Community Orchestra":MAILTO:publicity@pcomusic.org
END:VEVENT
END:VCALENDAR