BEGIN:VCALENDAR
VERSION:2.0
PRODID:-//Pasadena Community Orchestra - ECPv6.15.20//NONSGML v1.0//EN
CALSCALE:GREGORIAN
METHOD:PUBLISH
X-ORIGINAL-URL:https://www.pcomusic.org
X-WR-CALDESC:Events for Pasadena Community Orchestra
REFRESH-INTERVAL;VALUE=DURATION:PT1H
X-Robots-Tag:noindex
X-PUBLISHED-TTL:PT1H
BEGIN:VTIMEZONE
TZID:America/Los_Angeles
BEGIN:DAYLIGHT
TZOFFSETFROM:-0800
TZOFFSETTO:-0700
TZNAME:PDT
DTSTART:20190310T100000
END:DAYLIGHT
BEGIN:STANDARD
TZOFFSETFROM:-0700
TZOFFSETTO:-0800
TZNAME:PST
DTSTART:20191103T090000
END:STANDARD
BEGIN:DAYLIGHT
TZOFFSETFROM:-0800
TZOFFSETTO:-0700
TZNAME:PDT
DTSTART:20200308T100000
END:DAYLIGHT
BEGIN:STANDARD
TZOFFSETFROM:-0700
TZOFFSETTO:-0800
TZNAME:PST
DTSTART:20201101T090000
END:STANDARD
BEGIN:DAYLIGHT
TZOFFSETFROM:-0800
TZOFFSETTO:-0700
TZNAME:PDT
DTSTART:20210314T100000
END:DAYLIGHT
BEGIN:STANDARD
TZOFFSETFROM:-0700
TZOFFSETTO:-0800
TZNAME:PST
DTSTART:20211107T090000
END:STANDARD
BEGIN:DAYLIGHT
TZOFFSETFROM:-0800
TZOFFSETTO:-0700
TZNAME:PDT
DTSTART:20220313T100000
END:DAYLIGHT
BEGIN:STANDARD
TZOFFSETFROM:-0700
TZOFFSETTO:-0800
TZNAME:PST
DTSTART:20221106T090000
END:STANDARD
BEGIN:DAYLIGHT
TZOFFSETFROM:-0800
TZOFFSETTO:-0700
TZNAME:PDT
DTSTART:20230312T100000
END:DAYLIGHT
BEGIN:STANDARD
TZOFFSETFROM:-0700
TZOFFSETTO:-0800
TZNAME:PST
DTSTART:20231105T090000
END:STANDARD
END:VTIMEZONE
BEGIN:VEVENT
DTSTART;TZID=America/Los_Angeles:20220127T200000
DTEND;TZID=America/Los_Angeles:20220127T210000
DTSTAMP:20260423T123323
CREATED:20220125T095539Z
LAST-MODIFIED:20220329T045054Z
UID:241835-1643313600-1643317200@www.pcomusic.org
SUMMARY:Past Performance: Clarinet Concerto\, K 622 by Wolfgang Amadeus Mozart
DESCRIPTION:On Mozart’s Birthday\, David Nicholson Performs Mozart Clarinet Concerto \n \nLet’s celebrate Mozart’s birthday (January 27) with a video on our YouTube channel of one of his most sublime works – the Clarinet Concerto – written only two months before his tragically early death.  Forget the pandemic for half an hour\, and bask in the beautiful sound of a performance by the Pasadena Community Orchestra\, recorded in January 2014.  Our soloist was the extraordinary David Nicholson\, and the Orchestra was led by Music Director\, Beth Pflueger. \nMozart had a wide circle of friends in Vienna in the 1780s.  They included the woodwind instrument maker Theodor Lotz\, and a virtuoso on the basset clarinet\, Anton Stadler.  Mozart loved the deep sonority of the lower register of this larger version of the clarinet\, and the still-larger basset horn. Those were productive years in one of Europe’s musical capitals\, and these collaborations – composer\, instrument builder\, and virtuoso performer – yielded many compositions and performances on these instruments.  Over the years their popularity declined\, and these days we hear these works on the modern clarinet.  The Concerto has the classical three-movement form\, with quick outer movements that are bouncy and playful in character.  But no explanation can do justice to the serene beauty of the central slow movement\, a vision of calm and contentment.  Just sit back and let the mellow tones of the clarinet relax you! \nWe were disappointed that we had to cancel the January 2022 concert\, but we hope that this joyous music will lift your spirits for a while.  The Orchestra loves to play for a live audience!  We’ll be back in March to resume our 2021-22 season. Be sure to check the Events page for the most up to date concert information. \n 
URL:https://www.pcomusic.org/event/mozart-clarinet-concerto/
LOCATION:YouTube
CATEGORIES:Concert,Video Concert
ATTACH;FMTTYPE=image/jpeg:https://www.pcomusic.org/wp-content/uploads/nikhita-singhal-k8y9HrzonOQ-unsplash.jpg
ORGANIZER;CN="Pasadena Community Orchestra":MAILTO:publicity@pcomusic.org
END:VEVENT
BEGIN:VEVENT
DTSTART;VALUE=DATE:20210811
DTEND;VALUE=DATE:20210812
DTSTAMP:20260423T123323
CREATED:20210812T033827Z
LAST-MODIFIED:20220112T033821Z
UID:241210-1628640000-1628726399@www.pcomusic.org
SUMMARY:PCO Virtual July 2021 Concert
DESCRIPTION:Members of Pasadena Community Orchestra from the string and brass sections recorded these two videos in Pasadena in July 2021 \n \nA concert of works for string duo and trombone quartet \nDuo for Violin & Viola in C Major – Jean Sibelius (1865-1957) \nDaniel Hooper – Violin\nTim McElrath – Viola \nSuite for Three Trombones mvt. I and mvt. II – George Friderich Handel (1685-1759)\nTwo Pieces for Three Trombones – Raymond Premru (1934-1998)\nJesus Loves Me – William B. Bradbury (1816-1868)\nFour Pieces for Four Trombones – Gareth Wood (1950 – ) \nKaty Raymond – Trombone (PCO guest performer)\nConrad Henning – Bass Trombone\nLarry Cavellone – Trombone\nEric Kirchhoff – Trombone \nBuilding upon our current season of chamber music offerings\, PCO is presenting this concert of works for violin & viola duo\, and for four trombones. Meeting outdoors\, these musicians are excited to be able to play together as a group for the first time in\, well\, a long time. The Sibelius is a unique duet for strings known to be one of the composer’s earlier works. The fun collection of trombone pieces are performed by three members of our trombone section plus an additional guest performer\, Katy Raymond. \nThis concert and all previous video concerts remain available anytime after the premiere date on the Pasadena Community Orchestra YouTube channel.
URL:https://www.pcomusic.org/event/pco-two-ensembles-virtual-concert/
LOCATION:YouTube
CATEGORIES:Video Concert
ATTACH;FMTTYPE=image/jpeg:https://www.pcomusic.org/wp-content/uploads/Two-videos.jpg
ORGANIZER;CN="Pasadena Community Orchestra":MAILTO:publicity@pcomusic.org
END:VEVENT
BEGIN:VEVENT
DTSTART;VALUE=DATE:20210709
DTEND;VALUE=DATE:20210710
DTSTAMP:20260423T123323
CREATED:20210420T090005Z
LAST-MODIFIED:20210812T113930Z
UID:240227-1625788800-1625875199@www.pcomusic.org
SUMMARY:PCO String Ensemble Virtual Concert - now released on YouTube
DESCRIPTION:The Pasadena Community Orchestra String Ensemble\, featuring eighteen of the Orchestra’s string players\, recorded this concert in Pasadena in June\, 2021 \n \nAlessandro Scarlatti (1660-1725) – Concerto Grosso No. 3 in F major\n    Allegro-Largo-Allegro-Largo-Allegro\nPeter Warlock (1894-1930) – Capriol Suite\n    Basse-danse\n    Pavane\n    Pieds-en-l’air\n    Mattachins (Sword Dance)\nFelix Mendelssohn (1809-1847) – Sinfonia No. 3 for Strings in e minor\n    Allegro di molto\n    Andante\n    Allegro \nBuilding upon our current season of chamber music offerings\, PCO is presenting this concert of works for string ensemble. Meeting in the backyard of a Pasadena home\, these musicians are excited to play together as a group for the first time in more than a year. \nThe Scarlatti is a multi-movement\, continuous set of pieces. The Warlock is based on Renaissance dances (with some modern twists). And the Mendelssohn is one of his earliest compositions for strings\, yet has musical insight and depth. All of the works feature wonderful melodies and have been great fun to put together for you to enjoy. \nThis concert and all previous video concerts remain available anytime after the premiere date on the Pasadena Community Orchestra YouTube channel.
URL:https://www.pcomusic.org/event/pco-string-ensemble-virtual-concert-2/
LOCATION:YouTube
CATEGORIES:Video Concert
ATTACH;FMTTYPE=image/jpeg:https://www.pcomusic.org/wp-content/uploads/String-Ensemble2.jpg
ORGANIZER;CN="PCO Foundation":MAILTO:publicity@pcomusic.org
END:VEVENT
BEGIN:VEVENT
DTSTART;TZID=America/Los_Angeles:20210611T200000
DTEND;TZID=America/Los_Angeles:20210611T220000
DTSTAMP:20260423T123323
CREATED:20210610T030000Z
LAST-MODIFIED:20210708T044429Z
UID:240883-1623441600-1623448800@www.pcomusic.org
SUMMARY:PCO Young Artist Virtual Recital: Audrey Park - Violin
DESCRIPTION:PCO presents our 2020 Young Artist Competition Winner\, Audrey Park (violin) in a virtual recital \n \nViolinist Audrey Park\, and pianist Jun Cho perform \nBrahms – Sonata No. 3 in D Minor\, Op. 108\nChausson – Poème\, Op. 25 \n\nWe are happy to present our 2020 Young Artist Competition winner in this virtual recital. Ms. Park is currently studying at the Julliard School in New York. In May she was featured in a live-stream performance of the Mozart Violin Concerto No. 4 with the LA Virtuosi Orchestra. Besides her many appearances as a soloist\, Ms. Park mentors young players through the Back to Bach Project as well as presenting virtual learning events for all ages. The PCO plans to have Ms. Park as a guest artist with the orchestra in the upcoming season. \nPianist Jun Cho is a collaborative and solo artist in New York\, where his appearances include performances in Carnegie Hall and Alice Tully Hall\, and with musicians including Itzhak Perlman. He also has given collaborative performances at the Aspen Music Festival and Sejong Music Festival. \n\nThis concert and all previous video concerts remain available anytime after the premiere date on the Orchestra’s YouTube page. \nMade possible in part by the Pasadena Arts & Culture Commission and the City of Pasadena Cultural Affairs Division.
URL:https://www.pcomusic.org/event/pco-yac-recital-june2020/
LOCATION:YouTube
CATEGORIES:Video Concert
ATTACH;FMTTYPE=image/png:https://www.pcomusic.org/wp-content/uploads/1189ff31-c19f-0ffb-ad21-ef364d4c5d80.png
ORGANIZER;CN="Pasadena Community Orchestra":MAILTO:publicity@pcomusic.org
END:VEVENT
BEGIN:VEVENT
DTSTART;VALUE=DATE:20201106
DTEND;VALUE=DATE:20201107
DTSTAMP:20260423T123323
CREATED:20200824T174726Z
LAST-MODIFIED:20210627T233110Z
UID:3164-1604620800-1604707199@www.pcomusic.org
SUMMARY:Past + Present Video Series premiere
DESCRIPTION:This is the first event in our Past + Present Video Series.  While we are unable to present live concerts\, this series will feature YouTube recordings postings of both great performances of the past and current chamber music performances by PCO members. Sign up for our enewsletter\, follow us here or on social media to be notified.
URL:https://www.pcomusic.org/event/past-present-video-series/
LOCATION:YouTube
CATEGORIES:Video Concert
ATTACH;FMTTYPE=image/jpeg:https://www.pcomusic.org/wp-content/uploads/2020/08/110620.web_.banner.jpg
ORGANIZER;CN="Pasadena Community Orchestra":MAILTO:publicity@pcomusic.org
END:VEVENT
END:VCALENDAR