BEGIN:VCALENDAR
VERSION:2.0
PRODID:-//Pasadena Community Orchestra - ECPv6.15.20//NONSGML v1.0//EN
CALSCALE:GREGORIAN
METHOD:PUBLISH
X-ORIGINAL-URL:https://www.pcomusic.org
X-WR-CALDESC:Events for Pasadena Community Orchestra
REFRESH-INTERVAL;VALUE=DURATION:PT1H
X-Robots-Tag:noindex
X-PUBLISHED-TTL:PT1H
BEGIN:VTIMEZONE
TZID:America/Los_Angeles
BEGIN:DAYLIGHT
TZOFFSETFROM:-0800
TZOFFSETTO:-0700
TZNAME:PDT
DTSTART:20130310T100000
END:DAYLIGHT
BEGIN:STANDARD
TZOFFSETFROM:-0700
TZOFFSETTO:-0800
TZNAME:PST
DTSTART:20131103T090000
END:STANDARD
BEGIN:DAYLIGHT
TZOFFSETFROM:-0800
TZOFFSETTO:-0700
TZNAME:PDT
DTSTART:20140309T100000
END:DAYLIGHT
BEGIN:STANDARD
TZOFFSETFROM:-0700
TZOFFSETTO:-0800
TZNAME:PST
DTSTART:20141102T090000
END:STANDARD
BEGIN:DAYLIGHT
TZOFFSETFROM:-0800
TZOFFSETTO:-0700
TZNAME:PDT
DTSTART:20150308T100000
END:DAYLIGHT
BEGIN:STANDARD
TZOFFSETFROM:-0700
TZOFFSETTO:-0800
TZNAME:PST
DTSTART:20151101T090000
END:STANDARD
BEGIN:DAYLIGHT
TZOFFSETFROM:-0800
TZOFFSETTO:-0700
TZNAME:PDT
DTSTART:20160313T100000
END:DAYLIGHT
BEGIN:STANDARD
TZOFFSETFROM:-0700
TZOFFSETTO:-0800
TZNAME:PST
DTSTART:20161106T090000
END:STANDARD
BEGIN:DAYLIGHT
TZOFFSETFROM:-0800
TZOFFSETTO:-0700
TZNAME:PDT
DTSTART:20170312T100000
END:DAYLIGHT
BEGIN:STANDARD
TZOFFSETFROM:-0700
TZOFFSETTO:-0800
TZNAME:PST
DTSTART:20171105T090000
END:STANDARD
BEGIN:DAYLIGHT
TZOFFSETFROM:-0800
TZOFFSETTO:-0700
TZNAME:PDT
DTSTART:20180311T100000
END:DAYLIGHT
BEGIN:STANDARD
TZOFFSETFROM:-0700
TZOFFSETTO:-0800
TZNAME:PST
DTSTART:20181104T090000
END:STANDARD
BEGIN:DAYLIGHT
TZOFFSETFROM:-0800
TZOFFSETTO:-0700
TZNAME:PDT
DTSTART:20190310T100000
END:DAYLIGHT
BEGIN:STANDARD
TZOFFSETFROM:-0700
TZOFFSETTO:-0800
TZNAME:PST
DTSTART:20191103T090000
END:STANDARD
BEGIN:DAYLIGHT
TZOFFSETFROM:-0800
TZOFFSETTO:-0700
TZNAME:PDT
DTSTART:20200308T100000
END:DAYLIGHT
BEGIN:STANDARD
TZOFFSETFROM:-0700
TZOFFSETTO:-0800
TZNAME:PST
DTSTART:20201101T090000
END:STANDARD
BEGIN:DAYLIGHT
TZOFFSETFROM:-0800
TZOFFSETTO:-0700
TZNAME:PDT
DTSTART:20210314T100000
END:DAYLIGHT
BEGIN:STANDARD
TZOFFSETFROM:-0700
TZOFFSETTO:-0800
TZNAME:PST
DTSTART:20211107T090000
END:STANDARD
BEGIN:DAYLIGHT
TZOFFSETFROM:-0800
TZOFFSETTO:-0700
TZNAME:PDT
DTSTART:20220313T100000
END:DAYLIGHT
BEGIN:STANDARD
TZOFFSETFROM:-0700
TZOFFSETTO:-0800
TZNAME:PST
DTSTART:20221106T090000
END:STANDARD
BEGIN:DAYLIGHT
TZOFFSETFROM:-0800
TZOFFSETTO:-0700
TZNAME:PDT
DTSTART:20230312T100000
END:DAYLIGHT
BEGIN:STANDARD
TZOFFSETFROM:-0700
TZOFFSETTO:-0800
TZNAME:PST
DTSTART:20231105T090000
END:STANDARD
BEGIN:DAYLIGHT
TZOFFSETFROM:-0800
TZOFFSETTO:-0700
TZNAME:PDT
DTSTART:20240310T100000
END:DAYLIGHT
BEGIN:STANDARD
TZOFFSETFROM:-0700
TZOFFSETTO:-0800
TZNAME:PST
DTSTART:20241103T090000
END:STANDARD
BEGIN:DAYLIGHT
TZOFFSETFROM:-0800
TZOFFSETTO:-0700
TZNAME:PDT
DTSTART:20250309T100000
END:DAYLIGHT
BEGIN:STANDARD
TZOFFSETFROM:-0700
TZOFFSETTO:-0800
TZNAME:PST
DTSTART:20251102T090000
END:STANDARD
END:VTIMEZONE
BEGIN:VEVENT
DTSTART;TZID=America/Los_Angeles:20240929T110000
DTEND;TZID=America/Los_Angeles:20240929T123000
DTSTAMP:20260423T110654
CREATED:20240906T233053Z
LAST-MODIFIED:20241012T183931Z
UID:244325-1727607600-1727613000@www.pcomusic.org
SUMMARY:Chamber Music Recital - September 29
DESCRIPTION:The Young Artist Competition Committee of PCO proudly presents: \nChamber Music Recital\nFeaturing Pasadena Community Orchestra Members & Friends\nSunday\, September 29\, 11am\nReception to follow\nBarrett Hall at Pasadena Conservatory of Music\n100 North Hill Ave\nPasadena\, CA 91106 \n\n\n\n\n\nThank you to all our friends who attended this delightful and memorable event.  We heard beautiful music by Mendelssohn and Schubert\, followed by a reception in the Conservatory’s garden courtyard.  All ticket sales will go directly toward empowering and celebrating young artists through our Young Artist Competition.  This season\, for the first time\, the public is invited to listen to the performers in the Young Artist Competition on January 25. It will be held at the same location\, the Pasadena Conservatory of Music. You can find details of this unusual event on the event listing. \n\n\n\n\n\nFor information on upcoming Pasadena Community Orchestra concerts\, visit the PCO Events page.  You can also view video recordings of works from many of our past concerts are now available on our YouTube channel.
URL:https://www.pcomusic.org/event/29sep2024/
LOCATION:Barrett Hall\, Pasadena Conservatory of Music\, 100 North Hill Avenue\, Pasadena\, CA\, 91106\, United States
CATEGORIES:Concert,Fundraising
ATTACH;FMTTYPE=image/png:https://www.pcomusic.org/wp-content/uploads/Recital-29sep2024-piano.png
ORGANIZER;CN="Pasadena Community Orchestra":MAILTO:pcomusic@pcomusic.org
END:VEVENT
BEGIN:VEVENT
DTSTART;TZID=America/Los_Angeles:20220430T090000
DTEND;TZID=America/Los_Angeles:20220430T140000
DTSTAMP:20260423T110654
CREATED:20220403T014050Z
LAST-MODIFIED:20220520T035451Z
UID:241917-1651309200-1651327200@www.pcomusic.org
SUMMARY:Yard Sale - Fundraiser for the Orchestra
DESCRIPTION:Update May 18\, 2022:  Thanks to everyone who participated in our Yard Sale – the Orchestra members and friends who donated items for sale\, the musicians who entertained the shoppers with live chamber music\, and of course\, everyone who purchased items for sale.  The proceed will help the Orchestra to provide free concerts next season.  Planning for the 2022-23 season is already underway! \nPlease drop by and browse the Pasadena Community Orchestra’s yard sale on Saturday April 30\, 9am-2pm.  All proceeds go toward helping the Orchestra present free concerts of classical music for the Pasadena community. If you’re lucky\, you may hear Orchestra members playing music\, just for fun\, while you shop! \n 
URL:https://www.pcomusic.org/event/yard-sale-2022/
LOCATION:Home in Pasadena\, Pasadena\, CA\, United States
CATEGORIES:Fundraising
ATTACH;FMTTYPE=image/png:https://www.pcomusic.org/wp-content/uploads/Yard-Sale.png
ORGANIZER;CN="Pasadena Community Orchestra":MAILTO:publicity@pcomusic.org
END:VEVENT
BEGIN:VEVENT
DTSTART;TZID=America/Los_Angeles:20190303T143000
DTEND;TZID=America/Los_Angeles:20190303T170000
DTSTAMP:20260423T110654
CREATED:20180801T200502Z
LAST-MODIFIED:20211012T045610Z
UID:2841-1551623400-1551632400@www.pcomusic.org
SUMMARY:8th Annual Chamber Music Gala + Fundraiser
DESCRIPTION:A rare opportunity to enjoy chamber music in a small private setting. Featuring American violinist Aubree Oliverson! Join us for wine and hors d’oeuvres at 2:30 p.m. Following the 3:00 p.m. performance\, meet the artist over dessert! *This event does not take place at our regular concert location. Please purchase your ticket for the exact address in Altadena.
URL:https://www.pcomusic.org/event/8th-annual-chamber-music-gala-fundraiser/
LOCATION:Private Home\, in Altadena
CATEGORIES:Concert,Fundraising
ATTACH;FMTTYPE=image/jpeg:https://www.pcomusic.org/wp-content/uploads/2018/08/030319.web_.banner.aubree.jpg
ORGANIZER;CN="Pasadena Community Orchestra":MAILTO:pcomusic@pcomusic.org
END:VEVENT
BEGIN:VEVENT
DTSTART;TZID=America/Los_Angeles:20180225T143000
DTEND;TZID=America/Los_Angeles:20180225T170000
DTSTAMP:20260423T110654
CREATED:20170818T232533Z
LAST-MODIFIED:20211012T045716Z
UID:2685-1519569000-1519578000@www.pcomusic.org
SUMMARY:7th Annual Chamber Music Gala + Fundraiser
DESCRIPTION:7th Annual Chamber Music Gala + Fundraiser. A rare opportunity to enjoy chamber music in a small private setting – featuring the Elixir Piano Trio. Founded in 2004\, the dynamic Elixir Piano Trio performs both traditional and modern repertoire with classical\, folk\, and jazz influences. Join us for wine and hors d’oeuvres at 2:30 p.m. Following the 3:00 p.m. performance\, meet the artists over dessert! Visit the website or sign up to our enewsletter for ticket sale information. \nLearn more about the Elixir Trio.
URL:https://www.pcomusic.org/event/7th-annual-chamber-music-gala-fundraiser/
LOCATION:Private Home\, in Altadena
CATEGORIES:Concert,Fundraising
ATTACH;FMTTYPE=image/jpeg:https://www.pcomusic.org/wp-content/uploads/2019/08/030120.web_.banner2.jpg
ORGANIZER;CN="Pasadena Community Orchestra Foundation":MAILTO:publicity@pcomusic.org
END:VEVENT
BEGIN:VEVENT
DTSTART;TZID=America/Los_Angeles:20170305T143000
DTEND;TZID=America/Los_Angeles:20170305T170000
DTSTAMP:20260423T110654
CREATED:20160828T032723Z
LAST-MODIFIED:20211012T050024Z
UID:2453-1488724200-1488733200@www.pcomusic.org
SUMMARY:6th Annual Chamber Music Gala + Fundraiser
DESCRIPTION:6th Annual Chamber Music Gala + Fundraiser. Celebrate the sonorous sounds of the cello in an “All Things Cello” recital with Cathy Biagini as your guide through all things that include the deep\, delectable\, and sensuous cello. Members of the PCO cello section will assist Cathy in creating an afternoon you won’t want to miss. Your generous donations will enable us to continue to provide outstanding free concerts for the greater San Gabriel Valley. \nLimited seating available ~ RSVP online or download and mail your reply card with payment HERE by Wednesday\, March 1st.
URL:https://www.pcomusic.org/event/030517/
LOCATION:Private Home\, in Altadena
CATEGORIES:Concert,Fundraising
ATTACH;FMTTYPE=image/jpeg:https://www.pcomusic.org/wp-content/uploads/2016/08/030517.fundraiser.web_.banner_598x450.jpg
ORGANIZER;CN="Pasadena Community Orchestra Foundation":MAILTO:publicity@pcomusic.org
END:VEVENT
BEGIN:VEVENT
DTSTART;TZID=America/Los_Angeles:20160228T143000
DTEND;TZID=America/Los_Angeles:20160228T170000
DTSTAMP:20260423T110654
CREATED:20150823T233859Z
LAST-MODIFIED:20210629T012852Z
UID:2284-1456669800-1456678800@www.pcomusic.org
SUMMARY:5th Annual Fundraiser
DESCRIPTION:5th Annual Chamber Music Gala + Fundraiser. A rare opportunity to enjoy chamber music in a small setting. \nFeaturing Ensemble Hotteterre\nDrs. Paul Sherman and Asuncion Ojeda\, Artistic Directors \nPresenting “Winds of Change\,”\nBaroque works for winds performed on original instruments\,\nplus explorations of life in the Baroque period. \nJoin us for wine and hors d’oeuvres at 2:30 p.m.\nFollowing the 3:00 p.m. performance\, meet the artists over dessert. \nLimited seating available ~ RSVP below or download and mail your reply card with payment HERE by Wednesday\, February 24th. \nDownload invitation HERE
URL:https://www.pcomusic.org/event/022816/
LOCATION:Private Home\, in Altadena
CATEGORIES:Concert,Fundraising
ATTACH;FMTTYPE=image/jpeg:https://www.pcomusic.org/wp-content/uploads/2015/08/022816.fundraiser.web_.banner_598x4502.jpg
ORGANIZER;CN="Pasadena Community Orchestra Foundation":MAILTO:publicity@pcomusic.org
END:VEVENT
BEGIN:VEVENT
DTSTART;TZID=America/Los_Angeles:20150301T140000
DTEND;TZID=America/Los_Angeles:20150301T170000
DTSTAMP:20260423T110654
CREATED:20140812T083627Z
LAST-MODIFIED:20211012T050152Z
UID:1909-1425218400-1425229200@www.pcomusic.org
SUMMARY:4th Annual Fundraiser
DESCRIPTION:4th Annual Chamber Music Gala + Fundraiser. A rare opportunity to enjoy chamber music in a small setting. Featuring Bethany Pflueger\, (flute) and Lucy Nargizyan (piano). Performing music from around the world and across three centuries. Join us for wine and hors d’oeuvres at 2:00 p.m. Following the 3:00 p.m. performance\, meet the artists over dessert! \n$60 admission per person ($70 at the door). Limited seating available! RSVP online or download and mail your check and RSVP card by clicking HERE. \nAll proceeds benefit Pasadena Community Orchestra. For further information\, please contact us at: publicity@pcomusic.org or 626-445-6708 \nPURCHASE TICKETS HERE\nSALES BEGIN DECEMBER 20TH
URL:https://www.pcomusic.org/event/4th-annual-fundraiser/
LOCATION:Private Home\, in Altadena
CATEGORIES:Concert,Fundraising
ATTACH;FMTTYPE=image/jpeg:https://www.pcomusic.org/wp-content/uploads/2014/08/Fundraiser_2015.Web_.banner_598x450_2.jpg
ORGANIZER;CN="PCO Foundation":MAILTO:publicity@pcomusic.org
END:VEVENT
BEGIN:VEVENT
DTSTART;TZID=America/Los_Angeles:20140223T140000
DTEND;TZID=America/Los_Angeles:20140223T170000
DTSTAMP:20260423T110654
CREATED:20130723T124916Z
LAST-MODIFIED:20210629T014324Z
UID:989-1393164000-1393174800@www.pcomusic.org
SUMMARY:3rd Annual Fundraiser
DESCRIPTION:3rd Annual Chamber Music Gala + Fundraiser featuring the Elixir Trio! \nA rare opportunity to enjoy chamber music in a small setting. \nOblivion Tango\, Astor Piazzolla\nPiano Trio No. 1 in D minor\, Anton Arensky\nCassandra’s Rockaby\, Penka Kouneva
URL:https://www.pcomusic.org/event/3rd-annual-fundraiser-2014/
LOCATION:Private Home\, in Altadena
CATEGORIES:Concert,Fundraising
ATTACH;FMTTYPE=image/jpeg:https://www.pcomusic.org/wp-content/uploads/2013/07/Feb.Web_.banner2_598x450.jpg
ORGANIZER;CN="Pasadena Community Orchestra Foundation":MAILTO:publicity@pcomusic.org
END:VEVENT
END:VCALENDAR