BEGIN:VCALENDAR
VERSION:2.0
PRODID:-//Pasadena Community Orchestra - ECPv6.15.20//NONSGML v1.0//EN
CALSCALE:GREGORIAN
METHOD:PUBLISH
X-WR-CALNAME:Pasadena Community Orchestra
X-ORIGINAL-URL:https://www.pcomusic.org
X-WR-CALDESC:Events for Pasadena Community Orchestra
REFRESH-INTERVAL;VALUE=DURATION:PT1H
X-Robots-Tag:noindex
X-PUBLISHED-TTL:PT1H
BEGIN:VTIMEZONE
TZID:America/Los_Angeles
BEGIN:DAYLIGHT
TZOFFSETFROM:-0800
TZOFFSETTO:-0700
TZNAME:PDT
DTSTART:20210314T100000
END:DAYLIGHT
BEGIN:STANDARD
TZOFFSETFROM:-0700
TZOFFSETTO:-0800
TZNAME:PST
DTSTART:20211107T090000
END:STANDARD
BEGIN:DAYLIGHT
TZOFFSETFROM:-0800
TZOFFSETTO:-0700
TZNAME:PDT
DTSTART:20220313T100000
END:DAYLIGHT
BEGIN:STANDARD
TZOFFSETFROM:-0700
TZOFFSETTO:-0800
TZNAME:PST
DTSTART:20221106T090000
END:STANDARD
BEGIN:DAYLIGHT
TZOFFSETFROM:-0800
TZOFFSETTO:-0700
TZNAME:PDT
DTSTART:20230312T100000
END:DAYLIGHT
BEGIN:STANDARD
TZOFFSETFROM:-0700
TZOFFSETTO:-0800
TZNAME:PST
DTSTART:20231105T090000
END:STANDARD
END:VTIMEZONE
BEGIN:VEVENT
DTSTART;TZID=America/Los_Angeles:20220430T090000
DTEND;TZID=America/Los_Angeles:20220430T140000
DTSTAMP:20260423T093439
CREATED:20220403T014050Z
LAST-MODIFIED:20220520T035451Z
UID:241917-1651309200-1651327200@www.pcomusic.org
SUMMARY:Yard Sale - Fundraiser for the Orchestra
DESCRIPTION:Update May 18\, 2022:  Thanks to everyone who participated in our Yard Sale – the Orchestra members and friends who donated items for sale\, the musicians who entertained the shoppers with live chamber music\, and of course\, everyone who purchased items for sale.  The proceed will help the Orchestra to provide free concerts next season.  Planning for the 2022-23 season is already underway! \nPlease drop by and browse the Pasadena Community Orchestra’s yard sale on Saturday April 30\, 9am-2pm.  All proceeds go toward helping the Orchestra present free concerts of classical music for the Pasadena community. If you’re lucky\, you may hear Orchestra members playing music\, just for fun\, while you shop! \n 
URL:https://www.pcomusic.org/event/yard-sale-2022/
LOCATION:Home in Pasadena\, Pasadena\, CA\, United States
CATEGORIES:Fundraising
ATTACH;FMTTYPE=image/png:https://www.pcomusic.org/wp-content/uploads/Yard-Sale.png
ORGANIZER;CN="Pasadena Community Orchestra":MAILTO:publicity@pcomusic.org
END:VEVENT
END:VCALENDAR