BEGIN:VCALENDAR
VERSION:2.0
PRODID:-//Pasadena Community Orchestra - ECPv6.15.20//NONSGML v1.0//EN
CALSCALE:GREGORIAN
METHOD:PUBLISH
X-WR-CALNAME:Pasadena Community Orchestra
X-ORIGINAL-URL:https://www.pcomusic.org
X-WR-CALDESC:Events for Pasadena Community Orchestra
REFRESH-INTERVAL;VALUE=DURATION:PT1H
X-Robots-Tag:noindex
X-PUBLISHED-TTL:PT1H
BEGIN:VTIMEZONE
TZID:America/Los_Angeles
BEGIN:DAYLIGHT
TZOFFSETFROM:-0800
TZOFFSETTO:-0700
TZNAME:PDT
DTSTART:20170312T100000
END:DAYLIGHT
BEGIN:STANDARD
TZOFFSETFROM:-0700
TZOFFSETTO:-0800
TZNAME:PST
DTSTART:20171105T090000
END:STANDARD
BEGIN:DAYLIGHT
TZOFFSETFROM:-0800
TZOFFSETTO:-0700
TZNAME:PDT
DTSTART:20180311T100000
END:DAYLIGHT
BEGIN:STANDARD
TZOFFSETFROM:-0700
TZOFFSETTO:-0800
TZNAME:PST
DTSTART:20181104T090000
END:STANDARD
BEGIN:DAYLIGHT
TZOFFSETFROM:-0800
TZOFFSETTO:-0700
TZNAME:PDT
DTSTART:20190310T100000
END:DAYLIGHT
BEGIN:STANDARD
TZOFFSETFROM:-0700
TZOFFSETTO:-0800
TZNAME:PST
DTSTART:20191103T090000
END:STANDARD
END:VTIMEZONE
BEGIN:VEVENT
DTSTART;TZID=America/Los_Angeles:20180316T130000
DTEND;TZID=America/Los_Angeles:20180316T150000
DTSTAMP:20260423T121819
CREATED:20170810T220815Z
LAST-MODIFIED:20221104T231434Z
UID:2665-1521205200-1521212400@www.pcomusic.org
SUMMARY:Tchaikovsky  + Wagner + Franck + Prokofiev
DESCRIPTION:Tchaikovsky Sleeping Beauty Waltz\nWagner Elsa’s Procession to the Cathedral\nFranck The Accursed Huntsman\nGabriel Prokofiev Concerto for Bass Drum\nNic Keelaghan\, Bass Drum Soloist
URL:https://www.pcomusic.org/event/tchaikovsky-wagner-franck-prokofiev/
LOCATION:First Church of the Nazarene of Pasadena\, 3700 E Sierra Madre Boulevard\, Pasadena\, CA\, 91107\, United States
CATEGORIES:Concert
ATTACH;FMTTYPE=image/jpeg:https://www.pcomusic.org/wp-content/uploads/2017/08/Mar16.Web_.banner_598x450.jpg
ORGANIZER;CN="Pasadena Community Orchestra":MAILTO:pcomusic@pcomusic.org
END:VEVENT
END:VCALENDAR