BEGIN:VCALENDAR
VERSION:2.0
PRODID:-//Pasadena Community Orchestra - ECPv6.15.20//NONSGML v1.0//EN
CALSCALE:GREGORIAN
METHOD:PUBLISH
X-WR-CALNAME:Pasadena Community Orchestra
X-ORIGINAL-URL:https://www.pcomusic.org
X-WR-CALDESC:Events for Pasadena Community Orchestra
REFRESH-INTERVAL;VALUE=DURATION:PT1H
X-Robots-Tag:noindex
X-PUBLISHED-TTL:PT1H
BEGIN:VTIMEZONE
TZID:America/Los_Angeles
BEGIN:DAYLIGHT
TZOFFSETFROM:-0800
TZOFFSETTO:-0700
TZNAME:PDT
DTSTART:20220313T100000
END:DAYLIGHT
BEGIN:STANDARD
TZOFFSETFROM:-0700
TZOFFSETTO:-0800
TZNAME:PST
DTSTART:20221106T090000
END:STANDARD
BEGIN:DAYLIGHT
TZOFFSETFROM:-0800
TZOFFSETTO:-0700
TZNAME:PDT
DTSTART:20230312T100000
END:DAYLIGHT
BEGIN:STANDARD
TZOFFSETFROM:-0700
TZOFFSETTO:-0800
TZNAME:PST
DTSTART:20231105T090000
END:STANDARD
BEGIN:DAYLIGHT
TZOFFSETFROM:-0800
TZOFFSETTO:-0700
TZNAME:PDT
DTSTART:20240310T100000
END:DAYLIGHT
BEGIN:STANDARD
TZOFFSETFROM:-0700
TZOFFSETTO:-0800
TZNAME:PST
DTSTART:20241103T090000
END:STANDARD
END:VTIMEZONE
BEGIN:VEVENT
DTSTART;TZID=America/Los_Angeles:20231110T200000
DTEND;TZID=America/Los_Angeles:20231110T213000
DTSTAMP:20260423T110520
CREATED:20220814T005507Z
LAST-MODIFIED:20230812T041704Z
UID:242086-1699646400-1699651800@www.pcomusic.org
SUMMARY:2023-24 Concert Season Begins - November 10
DESCRIPTION:The Orchestra’s 41st season begins on Friday\, November 10\, 2023 at 8:00pm at the beautiful First Church of the Nazarene of Pasadena. Our concerts are always free admission\, and there is plenty of free parking. Program: \nRimsky-Korsakov           Procession of the Nobles\nOffenbach                       Intermezzo and Barcarolle from “The Tales of Hoffmann”\nMassenet                        Suite No. 4 “Scènes Pittoresques”\nMascagni                        Intermezzo from “Cavalleria Rusticana”\nStravinsky                       Firebird Suite (1919 version) \nWhile you are waiting for the season to start\, video recordings of works from many of our past concerts are now available on our YouTube channel.
URL:https://www.pcomusic.org/event/season-2023-24/
LOCATION:First Church of the Nazarene of Pasadena\, 3700 E Sierra Madre Boulevard\, Pasadena\, CA\, 91107\, United States
ATTACH;FMTTYPE=image/jpeg:https://www.pcomusic.org/wp-content/uploads/bassons.jpg
ORGANIZER;CN="Pasadena Community Orchestra":MAILTO:publicity@pcomusic.org
END:VEVENT
END:VCALENDAR