BEGIN:VCALENDAR
VERSION:2.0
PRODID:-//Pasadena Community Orchestra - ECPv6.15.20//NONSGML v1.0//EN
CALSCALE:GREGORIAN
METHOD:PUBLISH
X-WR-CALNAME:Pasadena Community Orchestra
X-ORIGINAL-URL:https://www.pcomusic.org
X-WR-CALDESC:Events for Pasadena Community Orchestra
REFRESH-INTERVAL;VALUE=DURATION:PT1H
X-Robots-Tag:noindex
X-PUBLISHED-TTL:PT1H
BEGIN:VTIMEZONE
TZID:America/Los_Angeles
BEGIN:DAYLIGHT
TZOFFSETFROM:-0800
TZOFFSETTO:-0700
TZNAME:PDT
DTSTART:20200308T100000
END:DAYLIGHT
BEGIN:STANDARD
TZOFFSETFROM:-0700
TZOFFSETTO:-0800
TZNAME:PST
DTSTART:20201101T090000
END:STANDARD
BEGIN:DAYLIGHT
TZOFFSETFROM:-0800
TZOFFSETTO:-0700
TZNAME:PDT
DTSTART:20210314T100000
END:DAYLIGHT
BEGIN:STANDARD
TZOFFSETFROM:-0700
TZOFFSETTO:-0800
TZNAME:PST
DTSTART:20211107T090000
END:STANDARD
BEGIN:DAYLIGHT
TZOFFSETFROM:-0800
TZOFFSETTO:-0700
TZNAME:PDT
DTSTART:20220313T100000
END:DAYLIGHT
BEGIN:STANDARD
TZOFFSETFROM:-0700
TZOFFSETTO:-0800
TZNAME:PST
DTSTART:20221106T090000
END:STANDARD
END:VTIMEZONE
BEGIN:VEVENT
DTSTART;VALUE=DATE:20210811
DTEND;VALUE=DATE:20210812
DTSTAMP:20260423T093429
CREATED:20210812T033827Z
LAST-MODIFIED:20220112T033821Z
UID:241210-1628640000-1628726399@www.pcomusic.org
SUMMARY:PCO Virtual July 2021 Concert
DESCRIPTION:Members of Pasadena Community Orchestra from the string and brass sections recorded these two videos in Pasadena in July 2021 \n \nA concert of works for string duo and trombone quartet \nDuo for Violin & Viola in C Major – Jean Sibelius (1865-1957) \nDaniel Hooper – Violin\nTim McElrath – Viola \nSuite for Three Trombones mvt. I and mvt. II – George Friderich Handel (1685-1759)\nTwo Pieces for Three Trombones – Raymond Premru (1934-1998)\nJesus Loves Me – William B. Bradbury (1816-1868)\nFour Pieces for Four Trombones – Gareth Wood (1950 – ) \nKaty Raymond – Trombone (PCO guest performer)\nConrad Henning – Bass Trombone\nLarry Cavellone – Trombone\nEric Kirchhoff – Trombone \nBuilding upon our current season of chamber music offerings\, PCO is presenting this concert of works for violin & viola duo\, and for four trombones. Meeting outdoors\, these musicians are excited to be able to play together as a group for the first time in\, well\, a long time. The Sibelius is a unique duet for strings known to be one of the composer’s earlier works. The fun collection of trombone pieces are performed by three members of our trombone section plus an additional guest performer\, Katy Raymond. \nThis concert and all previous video concerts remain available anytime after the premiere date on the Pasadena Community Orchestra YouTube channel.
URL:https://www.pcomusic.org/event/pco-two-ensembles-virtual-concert/
LOCATION:YouTube
CATEGORIES:Video Concert
ATTACH;FMTTYPE=image/jpeg:https://www.pcomusic.org/wp-content/uploads/Two-videos.jpg
ORGANIZER;CN="Pasadena Community Orchestra":MAILTO:publicity@pcomusic.org
END:VEVENT
END:VCALENDAR