BEGIN:VCALENDAR
VERSION:2.0
PRODID:-//Pasadena Community Orchestra - ECPv6.15.20//NONSGML v1.0//EN
CALSCALE:GREGORIAN
METHOD:PUBLISH
X-WR-CALNAME:Pasadena Community Orchestra
X-ORIGINAL-URL:https://www.pcomusic.org
X-WR-CALDESC:Events for Pasadena Community Orchestra
REFRESH-INTERVAL;VALUE=DURATION:PT1H
X-Robots-Tag:noindex
X-PUBLISHED-TTL:PT1H
BEGIN:VTIMEZONE
TZID:America/Los_Angeles
BEGIN:DAYLIGHT
TZOFFSETFROM:-0800
TZOFFSETTO:-0700
TZNAME:PDT
DTSTART:20200308T100000
END:DAYLIGHT
BEGIN:STANDARD
TZOFFSETFROM:-0700
TZOFFSETTO:-0800
TZNAME:PST
DTSTART:20201101T090000
END:STANDARD
BEGIN:DAYLIGHT
TZOFFSETFROM:-0800
TZOFFSETTO:-0700
TZNAME:PDT
DTSTART:20210314T100000
END:DAYLIGHT
BEGIN:STANDARD
TZOFFSETFROM:-0700
TZOFFSETTO:-0800
TZNAME:PST
DTSTART:20211107T090000
END:STANDARD
BEGIN:DAYLIGHT
TZOFFSETFROM:-0800
TZOFFSETTO:-0700
TZNAME:PDT
DTSTART:20220313T100000
END:DAYLIGHT
BEGIN:STANDARD
TZOFFSETFROM:-0700
TZOFFSETTO:-0800
TZNAME:PST
DTSTART:20221106T090000
END:STANDARD
END:VTIMEZONE
BEGIN:VEVENT
DTSTART;VALUE=DATE:20210709
DTEND;VALUE=DATE:20210710
DTSTAMP:20260423T110233
CREATED:20210420T090005Z
LAST-MODIFIED:20210812T113930Z
UID:240227-1625788800-1625875199@www.pcomusic.org
SUMMARY:PCO String Ensemble Virtual Concert - now released on YouTube
DESCRIPTION:The Pasadena Community Orchestra String Ensemble\, featuring eighteen of the Orchestra’s string players\, recorded this concert in Pasadena in June\, 2021 \n \nAlessandro Scarlatti (1660-1725) – Concerto Grosso No. 3 in F major\n    Allegro-Largo-Allegro-Largo-Allegro\nPeter Warlock (1894-1930) – Capriol Suite\n    Basse-danse\n    Pavane\n    Pieds-en-l’air\n    Mattachins (Sword Dance)\nFelix Mendelssohn (1809-1847) – Sinfonia No. 3 for Strings in e minor\n    Allegro di molto\n    Andante\n    Allegro \nBuilding upon our current season of chamber music offerings\, PCO is presenting this concert of works for string ensemble. Meeting in the backyard of a Pasadena home\, these musicians are excited to play together as a group for the first time in more than a year. \nThe Scarlatti is a multi-movement\, continuous set of pieces. The Warlock is based on Renaissance dances (with some modern twists). And the Mendelssohn is one of his earliest compositions for strings\, yet has musical insight and depth. All of the works feature wonderful melodies and have been great fun to put together for you to enjoy. \nThis concert and all previous video concerts remain available anytime after the premiere date on the Pasadena Community Orchestra YouTube channel.
URL:https://www.pcomusic.org/event/pco-string-ensemble-virtual-concert-2/
LOCATION:YouTube
CATEGORIES:Video Concert
ATTACH;FMTTYPE=image/jpeg:https://www.pcomusic.org/wp-content/uploads/String-Ensemble2.jpg
ORGANIZER;CN="PCO Foundation":MAILTO:publicity@pcomusic.org
END:VEVENT
END:VCALENDAR