BEGIN:VCALENDAR
VERSION:2.0
PRODID:-//Pasadena Community Orchestra - ECPv6.15.20//NONSGML v1.0//EN
CALSCALE:GREGORIAN
METHOD:PUBLISH
X-WR-CALNAME:Pasadena Community Orchestra
X-ORIGINAL-URL:https://www.pcomusic.org
X-WR-CALDESC:Events for Pasadena Community Orchestra
REFRESH-INTERVAL;VALUE=DURATION:PT1H
X-Robots-Tag:noindex
X-PUBLISHED-TTL:PT1H
BEGIN:VTIMEZONE
TZID:America/Los_Angeles
BEGIN:DAYLIGHT
TZOFFSETFROM:-0800
TZOFFSETTO:-0700
TZNAME:PDT
DTSTART:20200308T100000
END:DAYLIGHT
BEGIN:STANDARD
TZOFFSETFROM:-0700
TZOFFSETTO:-0800
TZNAME:PST
DTSTART:20201101T090000
END:STANDARD
BEGIN:DAYLIGHT
TZOFFSETFROM:-0800
TZOFFSETTO:-0700
TZNAME:PDT
DTSTART:20210314T100000
END:DAYLIGHT
BEGIN:STANDARD
TZOFFSETFROM:-0700
TZOFFSETTO:-0800
TZNAME:PST
DTSTART:20211107T090000
END:STANDARD
BEGIN:DAYLIGHT
TZOFFSETFROM:-0800
TZOFFSETTO:-0700
TZNAME:PDT
DTSTART:20220313T100000
END:DAYLIGHT
BEGIN:STANDARD
TZOFFSETFROM:-0700
TZOFFSETTO:-0800
TZNAME:PST
DTSTART:20221106T090000
END:STANDARD
END:VTIMEZONE
BEGIN:VEVENT
DTSTART;TZID=America/Los_Angeles:20210302T080000
DTEND;TZID=America/Los_Angeles:20210302T170000
DTSTAMP:20260423T121924
CREATED:20210415T203330Z
LAST-MODIFIED:20210616T072735Z
UID:240329-1614672000-1614704400@www.pcomusic.org
SUMMARY:Past + Present Video Series #3
DESCRIPTION:The Pasadena Community Orchestra is pleased to invite you to listen to our next online video concert. \nThis concert will feature two selections from our recordings of chamber music from October 2020 – a string duo by Schubert and a string quartet tango by Gardel. Finishing the concert will be Beethoven’s “Ah Perfido” from our January 2018 concert\, featuring soprano soloist Anita Protich. \nThis concert and all previous video concerts remain available anytime after the premiere date. \nJanuary 15\, 2020 Past + Present Video Series\nDecember 11\, 2020 Past + Present Video Series\nNovember 6\, 2020 Past + Present Video Series \nEnjoy the concert!
URL:https://www.pcomusic.org/event/past-present-video-series-3-2/
LOCATION:YouTube
CATEGORIES:Concert
ATTACH;FMTTYPE=image/jpeg:https://www.pcomusic.org/wp-content/uploads/2020/08/110620.web_.banner.jpg
ORGANIZER;CN="Pasadena Community Orchestra":MAILTO:publicity@pcomusic.org
END:VEVENT
END:VCALENDAR