BEGIN:VCALENDAR
VERSION:2.0
PRODID:-//Pasadena Community Orchestra - ECPv6.15.20//NONSGML v1.0//EN
CALSCALE:GREGORIAN
METHOD:PUBLISH
X-WR-CALNAME:Pasadena Community Orchestra
X-ORIGINAL-URL:https://www.pcomusic.org
X-WR-CALDESC:Events for Pasadena Community Orchestra
REFRESH-INTERVAL;VALUE=DURATION:PT1H
X-Robots-Tag:noindex
X-PUBLISHED-TTL:PT1H
BEGIN:VTIMEZONE
TZID:America/Los_Angeles
BEGIN:DAYLIGHT
TZOFFSETFROM:-0800
TZOFFSETTO:-0700
TZNAME:PDT
DTSTART:20210314T100000
END:DAYLIGHT
BEGIN:STANDARD
TZOFFSETFROM:-0700
TZOFFSETTO:-0800
TZNAME:PST
DTSTART:20211107T090000
END:STANDARD
BEGIN:DAYLIGHT
TZOFFSETFROM:-0800
TZOFFSETTO:-0700
TZNAME:PDT
DTSTART:20220313T100000
END:DAYLIGHT
BEGIN:STANDARD
TZOFFSETFROM:-0700
TZOFFSETTO:-0800
TZNAME:PST
DTSTART:20221106T090000
END:STANDARD
BEGIN:DAYLIGHT
TZOFFSETFROM:-0800
TZOFFSETTO:-0700
TZNAME:PDT
DTSTART:20230312T100000
END:DAYLIGHT
BEGIN:STANDARD
TZOFFSETFROM:-0700
TZOFFSETTO:-0800
TZNAME:PST
DTSTART:20231105T090000
END:STANDARD
END:VTIMEZONE
BEGIN:VEVENT
DTSTART;TZID=America/Los_Angeles:20220506T200000
DTEND;TZID=America/Los_Angeles:20220506T220000
DTSTAMP:20260423T093709
CREATED:20211223T002358Z
LAST-MODIFIED:20220512T041633Z
UID:241524-1651867200-1651874400@www.pcomusic.org
SUMMARY:Pasadena Community Orchestra – full orchestra playing live!
DESCRIPTION:The Pasadena Community Orchestra is excited to bring you a program that features the full orchestra for the first time in more than two years.  It’s great to be back at full strength and play works scored for symphony orchestra! As with all our concerts\, it will be free of charge – no tickets required! It will be held at the First Church of the Nazarene of Pasadena. \nUkrainian National Anthem………………………………..Mykhailo Verbytsky (1815-1870)\n…..Vsev Krawczeniuk\, vocalist ………………………………. arr. Keith Terrett\nWaltz from the The Sleeping Beauty ballet………..……Pyotr Ilyich Tchaikovsky (1840-1893)\nCapriol Suite…………………………………………………Peter Warlock (1894-1930)\nOverture from The Barber of Seville……………………..Gioachino Rossini (1792-1868)\nVltava (The Moldau) from Má Vlast………………………Bedřich Smetana (1824-1884) \nThe Church has plenty of free parking\, in front of and behind the church.  The guest entrance is on the south side (away from the street).  Look for the helpful signs near the entrance.  We hope to see you there! \nCovid-19 update: We want the concert experience to be enjoyable and safe for all attendees\, and we are still in the Covid-19 era. Los Angeles County and the City of Pasadena have recently relaxed safety requirements for events.  But for this concert\, we are requiring the wearing of a face mask while in the Auditorium. There is plenty of space in the Auditorium for social distancing. We hope this is the last time we need to do this! \nAnd in case you missed it\, Video recordings of most of the works from the November 5\, 2021 concert are now available on our YouTube channel.
URL:https://www.pcomusic.org/event/pasadena-community-orchestra-2021-22-season-continues-3-2-2/
LOCATION:First Church of the Nazarene of Pasadena\, 3700 E Sierra Madre Boulevard\, Pasadena\, CA\, 91107\, United States
CATEGORIES:Concert
ATTACH;FMTTYPE=image/jpeg:https://www.pcomusic.org/wp-content/uploads/Moldau-painting.jpg
ORGANIZER;CN="Pasadena Community Orchestra":MAILTO:publicity@pcomusic.org
END:VEVENT
END:VCALENDAR