BEGIN:VCALENDAR
VERSION:2.0
PRODID:-//Pasadena Community Orchestra - ECPv6.15.20//NONSGML v1.0//EN
CALSCALE:GREGORIAN
METHOD:PUBLISH
X-WR-CALNAME:Pasadena Community Orchestra
X-ORIGINAL-URL:https://www.pcomusic.org
X-WR-CALDESC:Events for Pasadena Community Orchestra
REFRESH-INTERVAL;VALUE=DURATION:PT1H
X-Robots-Tag:noindex
X-PUBLISHED-TTL:PT1H
BEGIN:VTIMEZONE
TZID:America/Los_Angeles
BEGIN:DAYLIGHT
TZOFFSETFROM:-0800
TZOFFSETTO:-0700
TZNAME:PDT
DTSTART:20210314T100000
END:DAYLIGHT
BEGIN:STANDARD
TZOFFSETFROM:-0700
TZOFFSETTO:-0800
TZNAME:PST
DTSTART:20211107T090000
END:STANDARD
BEGIN:DAYLIGHT
TZOFFSETFROM:-0800
TZOFFSETTO:-0700
TZNAME:PDT
DTSTART:20220313T100000
END:DAYLIGHT
BEGIN:STANDARD
TZOFFSETFROM:-0700
TZOFFSETTO:-0800
TZNAME:PST
DTSTART:20221106T090000
END:STANDARD
BEGIN:DAYLIGHT
TZOFFSETFROM:-0800
TZOFFSETTO:-0700
TZNAME:PDT
DTSTART:20230312T100000
END:DAYLIGHT
BEGIN:STANDARD
TZOFFSETFROM:-0700
TZOFFSETTO:-0800
TZNAME:PST
DTSTART:20231105T090000
END:STANDARD
END:VTIMEZONE
BEGIN:VEVENT
DTSTART;TZID=America/Los_Angeles:20221111T200000
DTEND;TZID=America/Los_Angeles:20221111T213000
DTSTAMP:20260423T110208
CREATED:20220329T050652Z
LAST-MODIFIED:20221224T012856Z
UID:241909-1668196800-1668202200@www.pcomusic.org
SUMMARY:40th Anniversary Season begins on November 11
DESCRIPTION:The Orchestra’s 40th Anniversary Season begins on Friday\, November 11\, 2022. We are proud to have served our local community with free classical music concerts since 1983\, and we have come through two years of the Covid-19 pandemic\, thanks to the continuing support of our donors\, and we greatly appreciate your support of live classical music in Pasadena. \nGiuseppe Verdi                         Overture to La Forza del Destino\nRalph Vaughan Williams          Prelude 49th Parallel\nW.A. Mozart                              Symphony No. 32 in G major\, K. 318\nHoward Hanson                       Symphony No. 2 in D-flat major\, Opus 30\, “Romantic” \nCovid-19 policy:  We are not requiring proof of vaccination for this concert. In consideration of audience members who are especially vulnerable\, we strongly encourage the wearing of a N-95 (or equivalent) face mask when you are in the performance space. There will be plenty of room to spread out and socially-distance. Thank you. \nPlanned future dates are on Fridays: January 27\, March 17\, and May 12\, 2023\, plus our popular Concert in the Park\, Saturday\, June 10\, 2023. Visit the Events page for announcements of all the venues\, dates\, and programs for our 40th season. \nAnd in case you missed them\, Video recordings of works from many of our past concerts are available on our YouTube channel.
URL:https://www.pcomusic.org/event/nov2022/
LOCATION:First Church of the Nazarene of Pasadena\, 3700 E Sierra Madre Boulevard\, Pasadena\, CA\, 91107\, United States
CATEGORIES:Concert
ATTACH;FMTTYPE=image/jpeg:https://www.pcomusic.org/wp-content/uploads/Four-composers.jpg
ORGANIZER;CN="Pasadena Community Orchestra":MAILTO:publicity@pcomusic.org
END:VEVENT
END:VCALENDAR