BEGIN:VCALENDAR
VERSION:2.0
PRODID:-//Pasadena Community Orchestra - ECPv6.15.20//NONSGML v1.0//EN
CALSCALE:GREGORIAN
METHOD:PUBLISH
X-WR-CALNAME:Pasadena Community Orchestra
X-ORIGINAL-URL:https://www.pcomusic.org
X-WR-CALDESC:Events for Pasadena Community Orchestra
REFRESH-INTERVAL;VALUE=DURATION:PT1H
X-Robots-Tag:noindex
X-PUBLISHED-TTL:PT1H
BEGIN:VTIMEZONE
TZID:America/Los_Angeles
BEGIN:DAYLIGHT
TZOFFSETFROM:-0800
TZOFFSETTO:-0700
TZNAME:PDT
DTSTART:20170312T100000
END:DAYLIGHT
BEGIN:STANDARD
TZOFFSETFROM:-0700
TZOFFSETTO:-0800
TZNAME:PST
DTSTART:20171105T090000
END:STANDARD
BEGIN:DAYLIGHT
TZOFFSETFROM:-0800
TZOFFSETTO:-0700
TZNAME:PDT
DTSTART:20180311T100000
END:DAYLIGHT
BEGIN:STANDARD
TZOFFSETFROM:-0700
TZOFFSETTO:-0800
TZNAME:PST
DTSTART:20181104T090000
END:STANDARD
BEGIN:DAYLIGHT
TZOFFSETFROM:-0800
TZOFFSETTO:-0700
TZNAME:PDT
DTSTART:20190310T100000
END:DAYLIGHT
BEGIN:STANDARD
TZOFFSETFROM:-0700
TZOFFSETTO:-0800
TZNAME:PST
DTSTART:20191103T090000
END:STANDARD
END:VTIMEZONE
BEGIN:VEVENT
DTSTART;TZID=America/Los_Angeles:20180511T130000
DTEND;TZID=America/Los_Angeles:20180511T150000
DTSTAMP:20260423T122542
CREATED:20170810T224833Z
LAST-MODIFIED:20221104T231358Z
UID:2669-1526043600-1526050800@www.pcomusic.org
SUMMARY:Holst + Borodin + Ippolitov-Ivanov + Prokofiev + YAC Winner
DESCRIPTION:Ippolitov-Ivanov\, Procession of the Sardar\nProkofiev\, Piano Concerto No. 3 featuring Young Artist Competition Winner\, Max Hammond\nBorodin\, In the Steppes of Central Asia + Polovetsyan March\nHolst\, Jupiter\, from The Planets
URL:https://www.pcomusic.org/event/holst-borodin-yac-winner/
LOCATION:First Church of the Nazarene of Pasadena\, 3700 E Sierra Madre Boulevard\, Pasadena\, CA\, 91107\, United States
CATEGORIES:Concert
ATTACH;FMTTYPE=image/jpeg:https://www.pcomusic.org/wp-content/uploads/2017/08/May17.Web_.banner_598x450-2.jpg
ORGANIZER;CN="Pasadena Community Orchestra":MAILTO:pcomusic@pcomusic.org
END:VEVENT
END:VCALENDAR