BEGIN:VCALENDAR
VERSION:2.0
PRODID:-//Pasadena Community Orchestra - ECPv6.15.20//NONSGML v1.0//EN
CALSCALE:GREGORIAN
METHOD:PUBLISH
X-WR-CALNAME:Pasadena Community Orchestra
X-ORIGINAL-URL:https://www.pcomusic.org
X-WR-CALDESC:Events for Pasadena Community Orchestra
REFRESH-INTERVAL;VALUE=DURATION:PT1H
X-Robots-Tag:noindex
X-PUBLISHED-TTL:PT1H
BEGIN:VTIMEZONE
TZID:America/Los_Angeles
BEGIN:DAYLIGHT
TZOFFSETFROM:-0800
TZOFFSETTO:-0700
TZNAME:PDT
DTSTART:20180311T100000
END:DAYLIGHT
BEGIN:STANDARD
TZOFFSETFROM:-0700
TZOFFSETTO:-0800
TZNAME:PST
DTSTART:20181104T090000
END:STANDARD
BEGIN:DAYLIGHT
TZOFFSETFROM:-0800
TZOFFSETTO:-0700
TZNAME:PDT
DTSTART:20190310T100000
END:DAYLIGHT
BEGIN:STANDARD
TZOFFSETFROM:-0700
TZOFFSETTO:-0800
TZNAME:PST
DTSTART:20191103T090000
END:STANDARD
BEGIN:DAYLIGHT
TZOFFSETFROM:-0800
TZOFFSETTO:-0700
TZNAME:PDT
DTSTART:20200308T100000
END:DAYLIGHT
BEGIN:STANDARD
TZOFFSETFROM:-0700
TZOFFSETTO:-0800
TZNAME:PST
DTSTART:20201101T090000
END:STANDARD
END:VTIMEZONE
BEGIN:VEVENT
DTSTART;TZID=America/Los_Angeles:20190608T183000
DTEND;TZID=America/Los_Angeles:20190608T203000
DTSTAMP:20260423T110547
CREATED:20180731T174554Z
LAST-MODIFIED:20220329T043628Z
UID:2838-1560018600-1560025800@www.pcomusic.org
SUMMARY:Annual Concert in the Park
DESCRIPTION:Picnic in the park with the PCO.\nRaffle with prizes! Win a chance to conduct the orchestra!\n*Concert location is held OUTDOORS at Sierra Madre Memorial Park
URL:https://www.pcomusic.org/event/annual-concert-in-the-park/
LOCATION:Sierra Madre Memorial Park\, 222 West Sierra Madre Blvd.\, Sierra Madre\, CA\, 91024\, United States
CATEGORIES:Concert
ATTACH;FMTTYPE=image/jpeg:https://www.pcomusic.org/wp-content/uploads/2018/07/060819.web_.banner.jpg
ORGANIZER;CN="Pasadena Community Orchestra":MAILTO:pcomusic@pcomusic.org
END:VEVENT
END:VCALENDAR