BEGIN:VCALENDAR
VERSION:2.0
PRODID:-//Pasadena Community Orchestra - ECPv6.15.20//NONSGML v1.0//EN
CALSCALE:GREGORIAN
METHOD:PUBLISH
X-WR-CALNAME:Pasadena Community Orchestra
X-ORIGINAL-URL:https://www.pcomusic.org
X-WR-CALDESC:Events for Pasadena Community Orchestra
REFRESH-INTERVAL;VALUE=DURATION:PT1H
X-Robots-Tag:noindex
X-PUBLISHED-TTL:PT1H
BEGIN:VTIMEZONE
TZID:America/Los_Angeles
BEGIN:DAYLIGHT
TZOFFSETFROM:-0800
TZOFFSETTO:-0700
TZNAME:PDT
DTSTART:20190310T100000
END:DAYLIGHT
BEGIN:STANDARD
TZOFFSETFROM:-0700
TZOFFSETTO:-0800
TZNAME:PST
DTSTART:20191103T090000
END:STANDARD
BEGIN:DAYLIGHT
TZOFFSETFROM:-0800
TZOFFSETTO:-0700
TZNAME:PDT
DTSTART:20200308T100000
END:DAYLIGHT
BEGIN:STANDARD
TZOFFSETFROM:-0700
TZOFFSETTO:-0800
TZNAME:PST
DTSTART:20201101T090000
END:STANDARD
BEGIN:DAYLIGHT
TZOFFSETFROM:-0800
TZOFFSETTO:-0700
TZNAME:PDT
DTSTART:20210314T100000
END:DAYLIGHT
BEGIN:STANDARD
TZOFFSETFROM:-0700
TZOFFSETTO:-0800
TZNAME:PST
DTSTART:20211107T090000
END:STANDARD
END:VTIMEZONE
BEGIN:VEVENT
DTSTART;TZID=America/Los_Angeles:20200301T063000
DTEND;TZID=America/Los_Angeles:20200301T090000
DTSTAMP:20260423T110655
CREATED:20190819T125946Z
LAST-MODIFIED:20200229T215142Z
UID:3004-1583044200-1583053200@www.pcomusic.org
SUMMARY:9th Annual Chamber Music Gala + Fundraiser
DESCRIPTION:A rare opportunity to enjoy chamber music in a small private setting – featuring the Elixir Piano Trio. Founded in 2004\, the dynamic Elixir Piano Trio performs both traditional and modern repertoire with classical\, folk\, and jazz influences. Join us for wine and hors d’oeuvres at 2:30 p.m. Following the 3:00 p.m. performance\, meet the artists over dessert! \n$60.00 ($63.09 w/service fee) \nAll proceeds benefit the Pasadena Community Orchestra *This event does not take place at our regular concert location. Please purchase your ticket for the exact address in Altadena.
URL:https://www.pcomusic.org/event/9th-annual-chamber-music-gala-fundraiser/
LOCATION:Private Home\, in Altadena
CATEGORIES:Concert
ATTACH;FMTTYPE=image/jpeg:https://www.pcomusic.org/wp-content/uploads/2019/08/030120.web_.banner2.jpg
ORGANIZER;CN="Pasadena Community Orchestra":MAILTO:pcomusic@pcomusic.org
END:VEVENT
END:VCALENDAR