BEGIN:VCALENDAR
VERSION:2.0
PRODID:-//Pasadena Community Orchestra - ECPv6.15.20//NONSGML v1.0//EN
CALSCALE:GREGORIAN
METHOD:PUBLISH
X-WR-CALNAME:Pasadena Community Orchestra
X-ORIGINAL-URL:https://www.pcomusic.org
X-WR-CALDESC:Events for Pasadena Community Orchestra
REFRESH-INTERVAL;VALUE=DURATION:PT1H
X-Robots-Tag:noindex
X-PUBLISHED-TTL:PT1H
BEGIN:VTIMEZONE
TZID:America/Los_Angeles
BEGIN:DAYLIGHT
TZOFFSETFROM:-0800
TZOFFSETTO:-0700
TZNAME:PDT
DTSTART:20180311T100000
END:DAYLIGHT
BEGIN:STANDARD
TZOFFSETFROM:-0700
TZOFFSETTO:-0800
TZNAME:PST
DTSTART:20181104T090000
END:STANDARD
BEGIN:DAYLIGHT
TZOFFSETFROM:-0800
TZOFFSETTO:-0700
TZNAME:PDT
DTSTART:20190310T100000
END:DAYLIGHT
BEGIN:STANDARD
TZOFFSETFROM:-0700
TZOFFSETTO:-0800
TZNAME:PST
DTSTART:20191103T090000
END:STANDARD
BEGIN:DAYLIGHT
TZOFFSETFROM:-0800
TZOFFSETTO:-0700
TZNAME:PDT
DTSTART:20200308T100000
END:DAYLIGHT
BEGIN:STANDARD
TZOFFSETFROM:-0700
TZOFFSETTO:-0800
TZNAME:PST
DTSTART:20201101T090000
END:STANDARD
END:VTIMEZONE
BEGIN:VEVENT
DTSTART;TZID=America/Los_Angeles:20190303T143000
DTEND;TZID=America/Los_Angeles:20190303T170000
DTSTAMP:20260423T110647
CREATED:20180801T200502Z
LAST-MODIFIED:20211012T045610Z
UID:2841-1551623400-1551632400@www.pcomusic.org
SUMMARY:8th Annual Chamber Music Gala + Fundraiser
DESCRIPTION:A rare opportunity to enjoy chamber music in a small private setting. Featuring American violinist Aubree Oliverson! Join us for wine and hors d’oeuvres at 2:30 p.m. Following the 3:00 p.m. performance\, meet the artist over dessert! *This event does not take place at our regular concert location. Please purchase your ticket for the exact address in Altadena.
URL:https://www.pcomusic.org/event/8th-annual-chamber-music-gala-fundraiser/
LOCATION:Private Home\, in Altadena
CATEGORIES:Concert,Fundraising
ATTACH;FMTTYPE=image/jpeg:https://www.pcomusic.org/wp-content/uploads/2018/08/030319.web_.banner.aubree.jpg
ORGANIZER;CN="Pasadena Community Orchestra":MAILTO:pcomusic@pcomusic.org
END:VEVENT
END:VCALENDAR