BEGIN:VCALENDAR
VERSION:2.0
PRODID:-//Pasadena Community Orchestra - ECPv6.15.20//NONSGML v1.0//EN
CALSCALE:GREGORIAN
METHOD:PUBLISH
X-WR-CALNAME:Pasadena Community Orchestra
X-ORIGINAL-URL:https://www.pcomusic.org
X-WR-CALDESC:Events for Pasadena Community Orchestra
REFRESH-INTERVAL;VALUE=DURATION:PT1H
X-Robots-Tag:noindex
X-PUBLISHED-TTL:PT1H
BEGIN:VTIMEZONE
TZID:America/Los_Angeles
BEGIN:DAYLIGHT
TZOFFSETFROM:-0800
TZOFFSETTO:-0700
TZNAME:PDT
DTSTART:20230312T100000
END:DAYLIGHT
BEGIN:STANDARD
TZOFFSETFROM:-0700
TZOFFSETTO:-0800
TZNAME:PST
DTSTART:20231105T090000
END:STANDARD
BEGIN:DAYLIGHT
TZOFFSETFROM:-0800
TZOFFSETTO:-0700
TZNAME:PDT
DTSTART:20240310T100000
END:DAYLIGHT
BEGIN:STANDARD
TZOFFSETFROM:-0700
TZOFFSETTO:-0800
TZNAME:PST
DTSTART:20241103T090000
END:STANDARD
BEGIN:DAYLIGHT
TZOFFSETFROM:-0800
TZOFFSETTO:-0700
TZNAME:PDT
DTSTART:20250309T100000
END:DAYLIGHT
BEGIN:STANDARD
TZOFFSETFROM:-0700
TZOFFSETTO:-0800
TZNAME:PST
DTSTART:20251102T090000
END:STANDARD
END:VTIMEZONE
BEGIN:VEVENT
DTSTART;TZID=America/Los_Angeles:20241108T200000
DTEND;TZID=America/Los_Angeles:20241108T213000
DTSTAMP:20260423T081338
CREATED:20240614T181516Z
LAST-MODIFIED:20241123T000447Z
UID:244265-1731096000-1731101400@www.pcomusic.org
SUMMARY:2024-25 Concert Season Begins - November 8
DESCRIPTION:The Orchestra’s 42nd season begins on Friday\, November 8\, 2024 at the beautiful First Church of the Nazarene of Pasadena. Our concerts are always free admission\, and there is plenty of free parking.  Pre-Concert discussion at 7:15pm; Concert begins at 8:00pm. \nGioachino Rossini          Overture to The Barber of Seville\nGeorges Bizet              Carmen Suite No. 2\nPaul Dukas                 Fanfare for brass from La Peri\nGeorge Gershwin            Lullaby\nNikolai Rimsky-Korsakov    Capriccio Espagnole \nThe season continues on these dates: \n\nJanuary 24\, 2025\, 8:00pm; Pre-Concert discussion at 7:15pm\nMarch 14\, 2025\, 8:00pm; Pre-Concert discussion at 7:15pm\nMay 9\, 2025\, 8:00pm; Pre-Concert discussion at 7:15pm\nJune 7\, 2025\, 6:30pm\, Concert in the Park\n\nWhile you are waiting for the season to begin\, video recordings of works from many of our past concerts are now available on our YouTube channel.
URL:https://www.pcomusic.org/event/8nov2024/
LOCATION:First Church of the Nazarene of Pasadena\, 3700 E Sierra Madre Boulevard\, Pasadena\, CA\, 91107\, United States
CATEGORIES:Concert
ATTACH;FMTTYPE=image/jpeg:https://www.pcomusic.org/wp-content/uploads/bassons.jpg
ORGANIZER;CN="Pasadena Community Orchestra":MAILTO:publicity@pcomusic.org
END:VEVENT
END:VCALENDAR