BEGIN:VCALENDAR
VERSION:2.0
PRODID:-//Pasadena Community Orchestra - ECPv6.15.20//NONSGML v1.0//EN
CALSCALE:GREGORIAN
METHOD:PUBLISH
X-WR-CALNAME:Pasadena Community Orchestra
X-ORIGINAL-URL:https://www.pcomusic.org
X-WR-CALDESC:Events for Pasadena Community Orchestra
REFRESH-INTERVAL;VALUE=DURATION:PT1H
X-Robots-Tag:noindex
X-PUBLISHED-TTL:PT1H
BEGIN:VTIMEZONE
TZID:America/Los_Angeles
BEGIN:DAYLIGHT
TZOFFSETFROM:-0800
TZOFFSETTO:-0700
TZNAME:PDT
DTSTART:20240310T100000
END:DAYLIGHT
BEGIN:STANDARD
TZOFFSETFROM:-0700
TZOFFSETTO:-0800
TZNAME:PST
DTSTART:20241103T090000
END:STANDARD
BEGIN:DAYLIGHT
TZOFFSETFROM:-0800
TZOFFSETTO:-0700
TZNAME:PDT
DTSTART:20250309T100000
END:DAYLIGHT
BEGIN:STANDARD
TZOFFSETFROM:-0700
TZOFFSETTO:-0800
TZNAME:PST
DTSTART:20251102T090000
END:STANDARD
BEGIN:DAYLIGHT
TZOFFSETFROM:-0800
TZOFFSETTO:-0700
TZNAME:PDT
DTSTART:20260308T100000
END:DAYLIGHT
BEGIN:STANDARD
TZOFFSETFROM:-0700
TZOFFSETTO:-0800
TZNAME:PST
DTSTART:20261101T090000
END:STANDARD
END:VTIMEZONE
BEGIN:VEVENT
DTSTART;TZID=America/Los_Angeles:20251107T200000
DTEND;TZID=America/Los_Angeles:20251107T213000
DTSTAMP:20260423T080721
CREATED:20250814T020113Z
LAST-MODIFIED:20250814T025604Z
UID:244844-1762545600-1762551000@www.pcomusic.org
SUMMARY:2025-26 Concert Season Begins - November 7
DESCRIPTION:The Orchestra’s 43rd season begins on Friday\, November 7\, 2025 at the beautiful First Church of the Nazarene of Pasadena. Our concerts are always free admission\, and there is plenty of free parking.  Pre-Concert discussion at 7:15pm; Concert begins at 8:00pm.\n\nPonchielli           Dance of the Hours\nHaydn                Andante from Symphony No. 94\nRimsky-Korsakov      Scheherazade \n\n\nThe season continues on these dates:\n\n\n\nJanuary 23\, 2026\, 8:00pm; Pre-Concert discussion at 7:15pm\nFebruary 7\, 2026 (Young Artist Competition at Pasadena Conservatory of Music)\nMarch 13\, 2026\, 8:00pm; Pre-Concert discussion at 7:15pm\nMay 8\, 2026\, 8:00pm; Pre-Concert discussion at 7:15pm\nJune 6\, 2026\, 6:30pm\, Concert in the Park\n\nVideo recordings of works from many of our past concerts are available on our YouTube channel.
URL:https://www.pcomusic.org/event/7nov2025/
LOCATION:First Church of the Nazarene of Pasadena\, 3700 E Sierra Madre Boulevard\, Pasadena\, CA\, 91107\, United States
CATEGORIES:Concert
ATTACH;FMTTYPE=image/jpeg:https://www.pcomusic.org/wp-content/uploads/1349-110924.jpg
ORGANIZER;CN="Pasadena Community Orchestra":MAILTO:publicity@pcomusic.org
END:VEVENT
END:VCALENDAR