BEGIN:VCALENDAR
VERSION:2.0
PRODID:-//Pasadena Community Orchestra - ECPv6.15.20//NONSGML v1.0//EN
CALSCALE:GREGORIAN
METHOD:PUBLISH
X-WR-CALNAME:Pasadena Community Orchestra
X-ORIGINAL-URL:https://www.pcomusic.org
X-WR-CALDESC:Events for Pasadena Community Orchestra
REFRESH-INTERVAL;VALUE=DURATION:PT1H
X-Robots-Tag:noindex
X-PUBLISHED-TTL:PT1H
BEGIN:VTIMEZONE
TZID:America/Los_Angeles
BEGIN:DAYLIGHT
TZOFFSETFROM:-0800
TZOFFSETTO:-0700
TZNAME:PDT
DTSTART:20240310T100000
END:DAYLIGHT
BEGIN:STANDARD
TZOFFSETFROM:-0700
TZOFFSETTO:-0800
TZNAME:PST
DTSTART:20241103T090000
END:STANDARD
BEGIN:DAYLIGHT
TZOFFSETFROM:-0800
TZOFFSETTO:-0700
TZNAME:PDT
DTSTART:20250309T100000
END:DAYLIGHT
BEGIN:STANDARD
TZOFFSETFROM:-0700
TZOFFSETTO:-0800
TZNAME:PST
DTSTART:20251102T090000
END:STANDARD
BEGIN:DAYLIGHT
TZOFFSETFROM:-0800
TZOFFSETTO:-0700
TZNAME:PDT
DTSTART:20260308T100000
END:DAYLIGHT
BEGIN:STANDARD
TZOFFSETFROM:-0700
TZOFFSETTO:-0800
TZNAME:PST
DTSTART:20261101T090000
END:STANDARD
END:VTIMEZONE
BEGIN:VEVENT
DTSTART;TZID=America/Los_Angeles:20250124T200000
DTEND;TZID=America/Los_Angeles:20250124T213000
DTSTAMP:20260423T093247
CREATED:20240805T005930Z
LAST-MODIFIED:20250117T032727Z
UID:244274-1737748800-1737754200@www.pcomusic.org
SUMMARY:Mozart\, Khachaturian and Ravel - January 24 - it's still on!
DESCRIPTION:The Orchestra’s 42nd season continues on Friday\, January 24 at the beautiful First Church of the Nazarene of Pasadena. Our concerts are always free admission\, and there is plenty of free parking. Pre-Concert discussion at 7:15pm; Concert begins at 8:00pm. \nSeveral of you have asked whether the concert will proceed\, given the devastation from the Eaton Fire. The good news: the concert will proceed as planned. The bad news: a few orchestra members lost their homes in the fire. PCO concerts are always free admission\, but we always accept donations. So for this concert\, all donations received will be distributed to orchestra members who have lost their homes in the Eaton Canyon fire. Hope to see you there! \nWolfgang Amadeus Mozart   Overture to The Magic Flute\, K.620\nWolfgang Amadeus Mozart   Vespers K.339\n                           Glendale College Concert Singers\nAram Khachaturian         Adagio from Spartacus\nMaurice Ravel             Bolero \nFor the Mozart Vespers\, the Orchestra is joined by the Glendale College Concert Singers and soloists under their Director\, Peter Green. \nWe’d like to know our audience better!  How do you learn about PCO concerts\, did you travel far\, what did you enjoy\, and how can we improve?  At each concert\, look for a QR code that takes you to a quick 5-minute survey.  We’ll enter you in a drawing for a $50 gift certificate.  We hope to hear from you! \nThe concert season continues on these dates: \n\nMarch 14\, 2025\, 8:00pm; Pre-Concert discussion at 7:15pm\nMay 9\, 2025\, 8:00pm; Pre-Concert discussion at 7:15pm\nJune 7\, 2025\, 6:30pm\, Concert in the Park\n\nVideo recordings of works from many of our past concerts are now available on our YouTube channel.
URL:https://www.pcomusic.org/event/24jan2025/
LOCATION:First Church of the Nazarene of Pasadena\, 3700 E Sierra Madre Boulevard\, Pasadena\, CA\, 91107\, United States
CATEGORIES:Concert
ATTACH;FMTTYPE=image/png:https://www.pcomusic.org/wp-content/uploads/Beth-and-Peter.png
ORGANIZER;CN="Pasadena Community Orchestra":MAILTO:publicity@pcomusic.org
END:VEVENT
END:VCALENDAR