BEGIN:VCALENDAR
VERSION:2.0
PRODID:-//Pasadena Community Orchestra - ECPv6.15.20//NONSGML v1.0//EN
CALSCALE:GREGORIAN
METHOD:PUBLISH
X-WR-CALNAME:Pasadena Community Orchestra
X-ORIGINAL-URL:https://www.pcomusic.org
X-WR-CALDESC:Events for Pasadena Community Orchestra
REFRESH-INTERVAL;VALUE=DURATION:PT1H
X-Robots-Tag:noindex
X-PUBLISHED-TTL:PT1H
BEGIN:VTIMEZONE
TZID:America/Los_Angeles
BEGIN:DAYLIGHT
TZOFFSETFROM:-0800
TZOFFSETTO:-0700
TZNAME:PDT
DTSTART:20240310T100000
END:DAYLIGHT
BEGIN:STANDARD
TZOFFSETFROM:-0700
TZOFFSETTO:-0800
TZNAME:PST
DTSTART:20241103T090000
END:STANDARD
BEGIN:DAYLIGHT
TZOFFSETFROM:-0800
TZOFFSETTO:-0700
TZNAME:PDT
DTSTART:20250309T100000
END:DAYLIGHT
BEGIN:STANDARD
TZOFFSETFROM:-0700
TZOFFSETTO:-0800
TZNAME:PST
DTSTART:20251102T090000
END:STANDARD
BEGIN:DAYLIGHT
TZOFFSETFROM:-0800
TZOFFSETTO:-0700
TZNAME:PDT
DTSTART:20260308T100000
END:DAYLIGHT
BEGIN:STANDARD
TZOFFSETFROM:-0700
TZOFFSETTO:-0800
TZNAME:PST
DTSTART:20261101T090000
END:STANDARD
END:VTIMEZONE
BEGIN:VEVENT
DTSTART;VALUE=DATE:20250609
DTEND;VALUE=DATE:20250610
DTSTAMP:20260423T081459
CREATED:20250528T042643Z
LAST-MODIFIED:20250603T040100Z
UID:244808-1749427200-1749513599@www.pcomusic.org
SUMMARY:2025-26 Concert Season Begins in November
DESCRIPTION:Save the Dates! Announcing our 2025-26 Concert Season!  Fridays at 8:00pm\, pre-concert discussion at 7:15pm. \nNovember 7\, 2025\nJanuary 23\, 2026\nFebruary 7\, 2026 (Young Artist Competition at Pasadena Conservatory of Music)\nMarch 13\, 2026\nMay 8\, 2026\nJune 6\, 2026 (Concert in the Park\, 630pm)\n\nThank you for sharing your Friday evenings with us and helping make the Orchestra’s 42nd season enjoyable and successful. We love performing for our local audience!  We’ll be back in November 2025 with a new season of free concerts. In the meantime\, please enjoy some video recordings of works from many of our past concerts on our YouTube channel.
URL:https://www.pcomusic.org/event/2025-26-season/
LOCATION:First Church of the Nazarene of Pasadena\, 3700 E Sierra Madre Boulevard\, Pasadena\, CA\, 91107\, United States
CATEGORIES:Concert
ATTACH;FMTTYPE=image/jpeg:https://www.pcomusic.org/wp-content/uploads/Violin-and-iPad.jpg
ORGANIZER;CN="Pasadena Community Orchestra":MAILTO:publicity@pcomusic.org
END:VEVENT
END:VCALENDAR