BEGIN:VCALENDAR
VERSION:2.0
PRODID:-//Pasadena Community Orchestra - ECPv6.15.20//NONSGML v1.0//EN
CALSCALE:GREGORIAN
METHOD:PUBLISH
X-WR-CALNAME:Pasadena Community Orchestra
X-ORIGINAL-URL:https://www.pcomusic.org
X-WR-CALDESC:Events for Pasadena Community Orchestra
REFRESH-INTERVAL;VALUE=DURATION:PT1H
X-Robots-Tag:noindex
X-PUBLISHED-TTL:PT1H
BEGIN:VTIMEZONE
TZID:America/Los_Angeles
BEGIN:DAYLIGHT
TZOFFSETFROM:-0800
TZOFFSETTO:-0700
TZNAME:PDT
DTSTART:20210314T100000
END:DAYLIGHT
BEGIN:STANDARD
TZOFFSETFROM:-0700
TZOFFSETTO:-0800
TZNAME:PST
DTSTART:20211107T090000
END:STANDARD
BEGIN:DAYLIGHT
TZOFFSETFROM:-0800
TZOFFSETTO:-0700
TZNAME:PDT
DTSTART:20220313T100000
END:DAYLIGHT
BEGIN:STANDARD
TZOFFSETFROM:-0700
TZOFFSETTO:-0800
TZNAME:PST
DTSTART:20221106T090000
END:STANDARD
BEGIN:DAYLIGHT
TZOFFSETFROM:-0800
TZOFFSETTO:-0700
TZNAME:PDT
DTSTART:20230312T100000
END:DAYLIGHT
BEGIN:STANDARD
TZOFFSETFROM:-0700
TZOFFSETTO:-0800
TZNAME:PST
DTSTART:20231105T090000
END:STANDARD
END:VTIMEZONE
BEGIN:VEVENT
DTSTART;TZID=America/Los_Angeles:20221002T143000
DTEND;TZID=America/Los_Angeles:20221002T170000
DTSTAMP:20260423T093309
CREATED:20220808T212225Z
LAST-MODIFIED:20220925T014116Z
UID:242037-1664721000-1664730000@www.pcomusic.org
SUMMARY:10th Annual Chamber Music Gala + Fundraiser
DESCRIPTION:Join us for a concert and fundraiser to help the Pasadena Community Orchestra with its goal of performing always-free concerts for the local community.   This is a great opportunity to enjoy chamber music in a small private setting.  It will feature an afternoon of harp music\, with Ellie Choate and Paul Baker\, Duo Harpists.  Come and enjoy the beauty and fun of two harps playing together!  Ellie and Paul are renowned harpists in both the classical and popular music fields.  They will present a program of original works and transcriptions for two harps and their own two-harp arrangements of tunes from the Great American Songbook. \nThis Special event is on Sunday\, October 2.  The concert will be held outdoors.  Join us for wine and hors d’oeuvres at 2:30 pm. Following the 3:00 pm performance\, meet the artists over dessert! \nVenue:   1787 Loma Vista Street\, Pasadena\, CA 91104 \nAll proceeds benefit the Pasadena Community Orchestra so we can continue to perform free concerts for the local community.  To purchase a ticket: \n\nGo to the Support/Donation page and use the “Donate to PCO” link to pay by PayPal or credit card.  Including the Paypal service fee it is  $61.72 total for each ticket.  Please indicate in the comment field at the top of PayPal’s  “Donate Now” page that your payment is for the Annual Fundraiser.\nOr send a check for $60 payable to Pasadena Community Orchestra Foundation to:      Pasadena Community Orchestra\, P.O. Box 92917\, Pasadena\, CA 91109-2917.\nOr pay $70 at the door by check or cash; please send an email to payment@pcomusic.org to let us know you are coming.\n\nThanks for your support!  We hope you will join us for a very special afternoon of music!
URL:https://www.pcomusic.org/event/2022-fundraiser/
LOCATION:Home in Pasadena\, Pasadena\, CA\, United States
ATTACH;FMTTYPE=image/jpeg:https://www.pcomusic.org/wp-content/uploads/Ellie-and-Paul-e1661806148201.jpeg
ORGANIZER;CN="Pasadena Community Orchestra":MAILTO:publicity@pcomusic.org
END:VEVENT
END:VCALENDAR