BEGIN:VCALENDAR
VERSION:2.0
PRODID:-//Pasadena Community Orchestra - ECPv6.15.20//NONSGML v1.0//EN
CALSCALE:GREGORIAN
METHOD:PUBLISH
X-WR-CALNAME:Pasadena Community Orchestra
X-ORIGINAL-URL:https://www.pcomusic.org
X-WR-CALDESC:Events for Pasadena Community Orchestra
REFRESH-INTERVAL;VALUE=DURATION:PT1H
X-Robots-Tag:noindex
X-PUBLISHED-TTL:PT1H
BEGIN:VTIMEZONE
TZID:America/Los_Angeles
BEGIN:DAYLIGHT
TZOFFSETFROM:-0800
TZOFFSETTO:-0700
TZNAME:PDT
DTSTART:20130310T100000
END:DAYLIGHT
BEGIN:STANDARD
TZOFFSETFROM:-0700
TZOFFSETTO:-0800
TZNAME:PST
DTSTART:20131103T090000
END:STANDARD
BEGIN:DAYLIGHT
TZOFFSETFROM:-0800
TZOFFSETTO:-0700
TZNAME:PDT
DTSTART:20140309T100000
END:DAYLIGHT
BEGIN:STANDARD
TZOFFSETFROM:-0700
TZOFFSETTO:-0800
TZNAME:PST
DTSTART:20141102T090000
END:STANDARD
BEGIN:DAYLIGHT
TZOFFSETFROM:-0800
TZOFFSETTO:-0700
TZNAME:PDT
DTSTART:20150308T100000
END:DAYLIGHT
BEGIN:STANDARD
TZOFFSETFROM:-0700
TZOFFSETTO:-0800
TZNAME:PST
DTSTART:20151101T090000
END:STANDARD
END:VTIMEZONE
BEGIN:VEVENT
DTSTART;TZID=America/Los_Angeles:20141114T200000
DTEND;TZID=America/Los_Angeles:20141114T220000
DTSTAMP:20260423T093113
CREATED:20140730T073843Z
LAST-MODIFIED:20221104T232204Z
UID:1859-1415995200-1416002400@www.pcomusic.org
SUMMARY:Rossini + Donizetti + Smetana + Humperdinck + Puccini + Sibelius + Gounod (FREE ADMISSION)
DESCRIPTION:Rossini – William Tell Overture\nDonizetti – Regnava nel silenzio from Lucia di Lammermoor\nSmetana – Polka from The Bartered Bride\nHumperdinck – Hansel and Gretel Overture\nPuccini – Quando men vo from La Boehme\nPuccini – O Mio babbino caro from Gianni Schicchi\nGounod – Je veux vivre from Romeo and Juliet\nSibelius – Finlandia\nLori Ann Fuller Piscioneri\, soprano soloist
URL:https://www.pcomusic.org/event/111414/
LOCATION:First Church of the Nazarene of Pasadena\, 3700 E Sierra Madre Boulevard\, Pasadena\, CA\, 91107\, United States
CATEGORIES:Concert
ATTACH;FMTTYPE=image/jpeg:https://www.pcomusic.org/wp-content/uploads/2014/07/Nov14.Web_.banner_598x4502.jpg
ORGANIZER;CN="PCO Foundation":MAILTO:publicity@pcomusic.org
END:VEVENT
END:VCALENDAR