BEGIN:VCALENDAR
VERSION:2.0
PRODID:-//Pasadena Community Orchestra - ECPv6.15.20//NONSGML v1.0//EN
CALSCALE:GREGORIAN
METHOD:PUBLISH
X-WR-CALNAME:Pasadena Community Orchestra
X-ORIGINAL-URL:https://www.pcomusic.org
X-WR-CALDESC:Events for Pasadena Community Orchestra
REFRESH-INTERVAL;VALUE=DURATION:PT1H
X-Robots-Tag:noindex
X-PUBLISHED-TTL:PT1H
BEGIN:VTIMEZONE
TZID:America/Los_Angeles
BEGIN:DAYLIGHT
TZOFFSETFROM:-0800
TZOFFSETTO:-0700
TZNAME:PDT
DTSTART:20150308T100000
END:DAYLIGHT
BEGIN:STANDARD
TZOFFSETFROM:-0700
TZOFFSETTO:-0800
TZNAME:PST
DTSTART:20151101T090000
END:STANDARD
BEGIN:DAYLIGHT
TZOFFSETFROM:-0800
TZOFFSETTO:-0700
TZNAME:PDT
DTSTART:20160313T100000
END:DAYLIGHT
BEGIN:STANDARD
TZOFFSETFROM:-0700
TZOFFSETTO:-0800
TZNAME:PST
DTSTART:20161106T090000
END:STANDARD
BEGIN:DAYLIGHT
TZOFFSETFROM:-0800
TZOFFSETTO:-0700
TZNAME:PDT
DTSTART:20170312T100000
END:DAYLIGHT
BEGIN:STANDARD
TZOFFSETFROM:-0700
TZOFFSETTO:-0800
TZNAME:PST
DTSTART:20171105T090000
END:STANDARD
END:VTIMEZONE
BEGIN:VEVENT
DTSTART;TZID=America/Los_Angeles:20161111T120000
DTEND;TZID=America/Los_Angeles:20161111T140000
DTSTAMP:20260423T122430
CREATED:20160828T001559Z
LAST-MODIFIED:20161101T235143Z
UID:2440-1478865600-1478872800@www.pcomusic.org
SUMMARY:Glinka + Prokofiev + Mozart + Wieniawski
DESCRIPTION:Glinka Russlan and Ludmilla Overture\nProkofiev Lt. Kije Suite\nMozart Cosi Fan Tutti Overture\nWieniawski Violin Concerto No. 2 \nFeaturing\, Aubree Oliverson. To learn more about Aubree\, click here.
URL:https://www.pcomusic.org/event/111116/
CATEGORIES:Concert
ATTACH;FMTTYPE=image/jpeg:https://www.pcomusic.org/wp-content/uploads/2016/08/Nov16.Web_.banner_598x4501.jpg
ORGANIZER;CN="Pasadena Community Orchestra Foundation":MAILTO:publicity@pcomusic.org
END:VEVENT
END:VCALENDAR