BEGIN:VCALENDAR
VERSION:2.0
PRODID:-//Pasadena Community Orchestra - ECPv6.15.20//NONSGML v1.0//EN
CALSCALE:GREGORIAN
METHOD:PUBLISH
X-WR-CALNAME:Pasadena Community Orchestra
X-ORIGINAL-URL:https://www.pcomusic.org
X-WR-CALDESC:Events for Pasadena Community Orchestra
REFRESH-INTERVAL;VALUE=DURATION:PT1H
X-Robots-Tag:noindex
X-PUBLISHED-TTL:PT1H
BEGIN:VTIMEZONE
TZID:America/Los_Angeles
BEGIN:DAYLIGHT
TZOFFSETFROM:-0800
TZOFFSETTO:-0700
TZNAME:PDT
DTSTART:20230312T100000
END:DAYLIGHT
BEGIN:STANDARD
TZOFFSETFROM:-0700
TZOFFSETTO:-0800
TZNAME:PST
DTSTART:20231105T090000
END:STANDARD
BEGIN:DAYLIGHT
TZOFFSETFROM:-0800
TZOFFSETTO:-0700
TZNAME:PDT
DTSTART:20240310T100000
END:DAYLIGHT
BEGIN:STANDARD
TZOFFSETFROM:-0700
TZOFFSETTO:-0800
TZNAME:PST
DTSTART:20241103T090000
END:STANDARD
BEGIN:DAYLIGHT
TZOFFSETFROM:-0800
TZOFFSETTO:-0700
TZNAME:PDT
DTSTART:20250309T100000
END:DAYLIGHT
BEGIN:STANDARD
TZOFFSETFROM:-0700
TZOFFSETTO:-0800
TZNAME:PST
DTSTART:20251102T090000
END:STANDARD
END:VTIMEZONE
BEGIN:VEVENT
DTSTART;TZID=America/Los_Angeles:20240510T200000
DTEND;TZID=America/Los_Angeles:20240510T213000
DTSTAMP:20260423T093248
CREATED:20230806T042708Z
LAST-MODIFIED:20240422T010022Z
UID:242849-1715371200-1715376600@www.pcomusic.org
SUMMARY:Young Artist Competition Winners Concert
DESCRIPTION:The Pasadena Community Orchestra is thrilled to announce the winners in this year’s Young Artist Competitions – and you can hear these outstanding young artists perform at this concert.  In the Senior Division\, the winner is violinist Ezra Shcolnik. The Junior Division winner is pianist Nathan Pak. Our concerts are always free admission\, and there is plenty of free parking. \nBeethoven        Leonore Overture No. 3\nBeethoven        Piano Concerto No. 2 in B-flat major\, Op. 19\, Allegro con brio\n                  Nathan Pak\, piano solo (2024 winner\, Junior Division)\nTchaikovsky      Violin Concerto in D major\, Op. 35\n                  Ezra Shcolnik\, violin solo (2024 winner\, Senior Division)\nWagner           Overture to Die Meistersinger\n \nAbout our soloists: \nPianist Nathan Pak is the winner of the Junior Division of the Young Artist Competition. He is a sophomore at Taft High School\, has been studying piano under the guidance of Dr. Agnes Kim since 2019. Last year\, he brought in several honorable titles including the 1st place winner at the renowned Music Teachers’ Association of California’s Southern California Regional Solo Competition and the honorable mention in Music Teachers National Association. Nathan has won first prize in open categories at Southwestern Youth Music Festival and Satori Competition\, the Santa Clarita Valley Romantic Music Festival\, and the Junior and Senior Division at the Antelope Valley Symphony Orchestra and Master Chorale Bach Competition. \nViolinist Ezra Shcolnik is the winner of the Senior Division of the Young Artist Competition. He is pursuing a Bachelor of Music degree at the Colburn Conservatory of Music\, where he studies with Robert Lipsett. This season\, Ezra appears as a soloist with several orchestras in Southern California\, including the Colburn Orchestra\, the Peninsula Symphony as the top prizewinner of the 2024 Knox Competition\, and the San Fernando Valley Symphony. Previously\, he appeared with the New Mexico Philharmonic. Ezra is also a composer whose music has been performed by the Los Angeles Philharmonic\, USC Thornton Edge\, and Colburn Academy Virtuosi. Summers have found Ezra studying chamber\, solo\, and orchestral repertoire under the guidance of esteemed artist faculty at the Aspen Music Festival as the recipient of several fellowships\, as well as at the Perlman Music Program. \nYou can read more about our winners on the Young Artist Competition web page. \nThe final concert of the season is our always-popular Concert in the Park\, in Sierra Madre on Saturday\, June 8\, at 6:30pm. The Orchestra will be back in the fall for a new season of glorious orchestral music! Sign up for our our e-mail Newsletter for more details of the our concerts.
URL:https://www.pcomusic.org/event/10may2024/
LOCATION:First Church of the Nazarene of Pasadena\, 3700 E Sierra Madre Boulevard\, Pasadena\, CA\, 91107\, United States
ATTACH;FMTTYPE=image/png:https://www.pcomusic.org/wp-content/uploads/YAC-2024-winners-v2-for-blog.png
ORGANIZER;CN="Pasadena Community Orchestra":MAILTO:publicity@pcomusic.org
END:VEVENT
END:VCALENDAR