BEGIN:VCALENDAR
VERSION:2.0
PRODID:-//Pasadena Community Orchestra - ECPv6.15.20//NONSGML v1.0//EN
CALSCALE:GREGORIAN
METHOD:PUBLISH
X-WR-CALNAME:Pasadena Community Orchestra
X-ORIGINAL-URL:https://www.pcomusic.org
X-WR-CALDESC:Events for Pasadena Community Orchestra
REFRESH-INTERVAL;VALUE=DURATION:PT1H
X-Robots-Tag:noindex
X-PUBLISHED-TTL:PT1H
BEGIN:VTIMEZONE
TZID:America/Los_Angeles
BEGIN:DAYLIGHT
TZOFFSETFROM:-0800
TZOFFSETTO:-0700
TZNAME:PDT
DTSTART:20150308T100000
END:DAYLIGHT
BEGIN:STANDARD
TZOFFSETFROM:-0700
TZOFFSETTO:-0800
TZNAME:PST
DTSTART:20151101T090000
END:STANDARD
BEGIN:DAYLIGHT
TZOFFSETFROM:-0800
TZOFFSETTO:-0700
TZNAME:PDT
DTSTART:20160313T100000
END:DAYLIGHT
BEGIN:STANDARD
TZOFFSETFROM:-0700
TZOFFSETTO:-0800
TZNAME:PST
DTSTART:20161106T090000
END:STANDARD
BEGIN:DAYLIGHT
TZOFFSETFROM:-0800
TZOFFSETTO:-0700
TZNAME:PDT
DTSTART:20170312T100000
END:DAYLIGHT
BEGIN:STANDARD
TZOFFSETFROM:-0700
TZOFFSETTO:-0800
TZNAME:PST
DTSTART:20171105T090000
END:STANDARD
END:VTIMEZONE
BEGIN:VEVENT
DTSTART;TZID=America/Los_Angeles:20160611T183000
DTEND;TZID=America/Los_Angeles:20160611T200000
DTSTAMP:20260423T121450
CREATED:20150823T101409Z
LAST-MODIFIED:20150823T101409Z
UID:2283-1465669800-1465675200@www.pcomusic.org
SUMMARY:Concert in the Park
DESCRIPTION:Picnic in the park with the PCO.\nRaffle with prizes! Win a chance to conduct the orchestra!\n*Concert location is held OUTDOORS at Sierra Madre Memorial Park
URL:https://www.pcomusic.org/event/061116/
LOCATION:Sierra Madre Memorial Park\, 222 West Sierra Madre Blvd.\, Sierra Madre\, CA\, 91024\, United States
CATEGORIES:Concert
ATTACH;FMTTYPE=image/jpeg:https://www.pcomusic.org/wp-content/uploads/2014/08/June15.Web_.banner_598x4501.jpg
ORGANIZER;CN="Pasadena Community Orchestra Foundation":MAILTO:publicity@pcomusic.org
END:VEVENT
END:VCALENDAR