BEGIN:VCALENDAR
VERSION:2.0
PRODID:-//Pasadena Community Orchestra - ECPv6.15.20//NONSGML v1.0//EN
CALSCALE:GREGORIAN
METHOD:PUBLISH
X-WR-CALNAME:Pasadena Community Orchestra
X-ORIGINAL-URL:https://www.pcomusic.org
X-WR-CALDESC:Events for Pasadena Community Orchestra
REFRESH-INTERVAL;VALUE=DURATION:PT1H
X-Robots-Tag:noindex
X-PUBLISHED-TTL:PT1H
BEGIN:VTIMEZONE
TZID:America/Los_Angeles
BEGIN:DAYLIGHT
TZOFFSETFROM:-0800
TZOFFSETTO:-0700
TZNAME:PDT
DTSTART:20160313T100000
END:DAYLIGHT
BEGIN:STANDARD
TZOFFSETFROM:-0700
TZOFFSETTO:-0800
TZNAME:PST
DTSTART:20161106T090000
END:STANDARD
BEGIN:DAYLIGHT
TZOFFSETFROM:-0800
TZOFFSETTO:-0700
TZNAME:PDT
DTSTART:20170312T100000
END:DAYLIGHT
BEGIN:STANDARD
TZOFFSETFROM:-0700
TZOFFSETTO:-0800
TZNAME:PST
DTSTART:20171105T090000
END:STANDARD
BEGIN:DAYLIGHT
TZOFFSETFROM:-0800
TZOFFSETTO:-0700
TZNAME:PDT
DTSTART:20180311T100000
END:DAYLIGHT
BEGIN:STANDARD
TZOFFSETFROM:-0700
TZOFFSETTO:-0800
TZNAME:PST
DTSTART:20181104T090000
END:STANDARD
END:VTIMEZONE
BEGIN:VEVENT
DTSTART;TZID=America/Los_Angeles:20170305T143000
DTEND;TZID=America/Los_Angeles:20170305T170000
DTSTAMP:20260423T121434
CREATED:20160828T032723Z
LAST-MODIFIED:20211012T050024Z
UID:2453-1488724200-1488733200@www.pcomusic.org
SUMMARY:6th Annual Chamber Music Gala + Fundraiser
DESCRIPTION:6th Annual Chamber Music Gala + Fundraiser. Celebrate the sonorous sounds of the cello in an “All Things Cello” recital with Cathy Biagini as your guide through all things that include the deep\, delectable\, and sensuous cello. Members of the PCO cello section will assist Cathy in creating an afternoon you won’t want to miss. Your generous donations will enable us to continue to provide outstanding free concerts for the greater San Gabriel Valley. \nLimited seating available ~ RSVP online or download and mail your reply card with payment HERE by Wednesday\, March 1st.
URL:https://www.pcomusic.org/event/030517/
LOCATION:Private Home\, in Altadena
CATEGORIES:Concert,Fundraising
ATTACH;FMTTYPE=image/jpeg:https://www.pcomusic.org/wp-content/uploads/2016/08/030517.fundraiser.web_.banner_598x450.jpg
ORGANIZER;CN="Pasadena Community Orchestra Foundation":MAILTO:publicity@pcomusic.org
END:VEVENT
END:VCALENDAR