BEGIN:VCALENDAR
VERSION:2.0
PRODID:-//Pasadena Community Orchestra - ECPv6.15.20//NONSGML v1.0//EN
CALSCALE:GREGORIAN
METHOD:PUBLISH
X-WR-CALNAME:Pasadena Community Orchestra
X-ORIGINAL-URL:https://www.pcomusic.org
X-WR-CALDESC:Events for Pasadena Community Orchestra
REFRESH-INTERVAL;VALUE=DURATION:PT1H
X-Robots-Tag:noindex
X-PUBLISHED-TTL:PT1H
BEGIN:VTIMEZONE
TZID:America/Los_Angeles
BEGIN:DAYLIGHT
TZOFFSETFROM:-0800
TZOFFSETTO:-0700
TZNAME:PDT
DTSTART:20150308T100000
END:DAYLIGHT
BEGIN:STANDARD
TZOFFSETFROM:-0700
TZOFFSETTO:-0800
TZNAME:PST
DTSTART:20151101T090000
END:STANDARD
BEGIN:DAYLIGHT
TZOFFSETFROM:-0800
TZOFFSETTO:-0700
TZNAME:PDT
DTSTART:20160313T100000
END:DAYLIGHT
BEGIN:STANDARD
TZOFFSETFROM:-0700
TZOFFSETTO:-0800
TZNAME:PST
DTSTART:20161106T090000
END:STANDARD
BEGIN:DAYLIGHT
TZOFFSETFROM:-0800
TZOFFSETTO:-0700
TZNAME:PDT
DTSTART:20170312T100000
END:DAYLIGHT
BEGIN:STANDARD
TZOFFSETFROM:-0700
TZOFFSETTO:-0800
TZNAME:PST
DTSTART:20171105T090000
END:STANDARD
END:VTIMEZONE
BEGIN:VEVENT
DTSTART;TZID=America/Los_Angeles:20160129T200000
DTEND;TZID=America/Los_Angeles:20160129T220000
DTSTAMP:20260423T121412
CREATED:20150823T083105Z
LAST-MODIFIED:20221104T232049Z
UID:2271-1454097600-1454104800@www.pcomusic.org
SUMMARY:Beethoven + Poulenc + Rossini
DESCRIPTION:Gioacchino Rossini – Italian in Algiers Overture\nFrancis Poulenc – Concerto for 2 Pianos in D Minor\nLudwig van Beethoven – Symphony No. 7 \nFeaturing Piano Soloists\, Dr. Jungwon Jin & Dr. Peter Green. Learn more about Dr. Jin and learn more about Dr. Peter Green.
URL:https://www.pcomusic.org/event/012916/
LOCATION:First Church of the Nazarene of Pasadena\, 3700 E Sierra Madre Boulevard\, Pasadena\, CA\, 91107\, United States
CATEGORIES:Concert
ATTACH;FMTTYPE=image/jpeg:https://www.pcomusic.org/wp-content/uploads/2015/08/012916.Web_.banner_598x450.jpg
ORGANIZER;CN="Pasadena Community Orchestra Foundation":MAILTO:publicity@pcomusic.org
END:VEVENT
END:VCALENDAR